BEGIN:VCALENDAR
VERSION:2.0
PRODID:-//STRAWANZERIN - ECPv4.9.5//NONSGML v1.0//EN
CALSCALE:GREGORIAN
METHOD:PUBLISH
X-WR-CALNAME:STRAWANZERIN
X-ORIGINAL-URL:https://www.strawanzerin.at
X-WR-CALDESC:Veranstaltungen im STRAWANZERIN
BEGIN:VTIMEZONE
TZID:"Europe/Vienna"
BEGIN:DAYLIGHT
TZOFFSETFROM:+0100
TZOFFSETTO:+0200
TZNAME:CEST
DTSTART:20230326T010000
END:DAYLIGHT
BEGIN:STANDARD
TZOFFSETFROM:+0200
TZOFFSETTO:+0100
TZNAME:CET
DTSTART:20231029T010000
END:STANDARD
END:VTIMEZONE
BEGIN:VEVENT
DTSTART;TZID="Europe/Vienna":20230920T170000
DTEND;TZID="Europe/Vienna":20230920T183000
DTSTAMP:20260420T133507
CREATED:20230919T100602Z
LAST-MODIFIED:20230919T100602Z
UID:93797-1695229200-1695234600@www.strawanzerin.at
SUMMARY:Empowerment Media: ein Webinar mit der syrischen Journalistin Lin Chawaf
DESCRIPTION:Bald ist es soweit\, die Online-Reihe „Empowerment Media“\, organisiert von COMMIT\, FJUM\, Frauen*solidarität und Women on Air\, nimmt ihren Auftakt. Thema der Reihe sind Projektvorstellungen in den Bereichen Konstruktiver Journalismus\, Geschlechtergerechtigkeit und Diversität in den Medien. Insgesamt wird es drei Termine geben\, die Teilnahme ist kostenlos.\nDas erste Webinar wird am Mittwoch den 20.09 von 17:00-18:30 stattfinden. Zu Gast ist Lina Chawaf\, eine syrische Journalistin\, die seit 2011 im Exil lebt. Sie ist Geschäftsführerin von Radio Rozana\, einem unabhängigen syrischen Medium mit Sitz in Paris. Sie wird ihre Erfahrungen aus Syrien und anderen Konfliktgebieten wie Jemen\, Libyen\, Sudan und anderen Ländern mit uns teilen. Sie wird darüber sprechen\, wie es ist\, als Journalistin in einem Konfliktgebiet für die wirtschaftliche\, soziale und rechtliche Stärkung der Frauen durch Community-Medien zu kämpfen. \nBei Interesse an einer Teilnahme\, oder dem Bedarf an weiteren Informationen\, wenden Sie sich gerne an Tania Napravnik (COMMIT): tn@commit.at \nFür mehr Informationen: https://www.frauensolidaritaet.org/ \n
URL:https://www.strawanzerin.at/termin/empowerment-media-ein-webinar-mit-der-syrischen-journalistin-lin-chawaf/
LOCATION:online
ATTACH;FMTTYPE=image/jpeg:https://www.strawanzerin.at/wp-content/uploads/2023/09/Flyer_Empowerment-Media.jpg
END:VEVENT
END:VCALENDAR