BEGIN:VCALENDAR
VERSION:2.0
PRODID:-//STRAWANZERIN - ECPv4.9.5//NONSGML v1.0//EN
CALSCALE:GREGORIAN
METHOD:PUBLISH
X-WR-CALNAME:STRAWANZERIN
X-ORIGINAL-URL:https://www.strawanzerin.at
X-WR-CALDESC:Veranstaltungen im STRAWANZERIN
BEGIN:VTIMEZONE
TZID:"Europe/Vienna"
BEGIN:DAYLIGHT
TZOFFSETFROM:+0100
TZOFFSETTO:+0200
TZNAME:CEST
DTSTART:20240331T010000
END:DAYLIGHT
BEGIN:STANDARD
TZOFFSETFROM:+0200
TZOFFSETTO:+0100
TZNAME:CET
DTSTART:20241027T010000
END:STANDARD
END:VTIMEZONE
BEGIN:VEVENT
DTSTART;TZID="Europe/Vienna":20241218T193000
DTEND;TZID="Europe/Vienna":20241218T220000
DTSTAMP:20260421T203438
CREATED:20241112T111652Z
LAST-MODIFIED:20241112T111652Z
UID:104564-1734550200-1734559200@www.strawanzerin.at
SUMMARY:EnChoir Vienna: Christmas Concert
DESCRIPTION:Der EnChoir Vienna freut sich\, mit seinem neuen Konzertprogramm die schönste Zeit des Jahres einzuläuten und mit bezaubernden Harmonien Weihnachtsstimmung zu verbreiten. Mit Stücken wie „Verleih uns Frieden\, genädiglich“ von Heinrich Schütz\, „Coventry Carol“ im Arrangement von Ola Gjeilo\, „In the Bleak Midwinter“ von Gustav Holst\, „Es ist ein Ros entsprungen“ von Hugo Distler\, „Bogoroditse Djevo“ von Sergei Rachmaninow\, „Run to You“ der A-cappella-Gruppe Pentatonix sowie „Go Tell it on the Mountain“ im Arrangement von Kirby Shaw umspannt das Programm traditionelle ebenso wie populäre Titel und lädt ein zu besinnlichen wie festlichen Momenten. \nUrsprünglich im Jahr 2012 als Chor des Instituts für English and American Studies der Universität Wien gegründet ist der EnChoir Vienna seit Mitte 2022 ein eigenständiger Chorverein unter der Leitung von Cordelia Vana und Miriam Laznia. Seine rund 60 Mitglieder sind eine fantastische Gruppe an Menschen\, deren Ziel es ist\, gemeinsam wundervolle Musik zu machen. \nTickets: https://www.eventim-light.com/at/a/665995b6ee6d002d5dc6efc8/\nNormalpreis Vorverkauf: €12\,00\nStudierende/Schüler*innen Vorverkauf: €8\,00\nNormalpreis Abendkasse: €15\,00\nStudierende/Schüler*innen Abendkasse: €10\,00 \n********* \nThe EnChoir Vienna is overjoyed to present a new concert programme full of Christmas spirit and blissful harmonies to enjoy the most wonderful time of the year. With pieces such as „Verleih uns Frieden\, genädiglich“ by Heinrich Schütz\, „Coventry Carol“ as arranged by Ola Gjeilo\, „In the Bleak Midwinter“ by Gustav Holst\, „Es ist ein Ros entsprungen“ by Hugo Distler\, „Bogoroditse Djevo“ by Sergei Rachmaninow\, „Run to You“ by the a cappella group Pentatonix and „Go Tell it on the Mountain“ as arranged by Kirby Shaw\, the programme encompasses both traditional and popular titles and invites you to enjoy contemplative and festive moments. \nOriginally founded in 2012 by the student representatives of the Department of English and American Studies at the University of Vienna\, the EnChoir Vienna has formed an independent choir association under the direction of Cordelia Vana and Miriam Laznia in mid-2022. The choir’s approximately 60 members are a fantastic mix of people\, making beautiful music together. \nTickets: https://www.eventim-light.com/at/a/665995b6ee6d002d5dc6efc8/\nRegular tickets pre-sale: €12\,00\nStudents pre-sale: €8\,00\nRegular tickets box office: €15\,00\nStudents box office: €10\,00 \n
URL:https://www.strawanzerin.at/termin/enchoir-vienna-christmas-concert/
LOCATION:Michaelerkirche\, Michaelerplatz 5\, 1010 Wien\, Wien\, 1010\, Österreich
CATEGORIES:Deutsch,Englisch,Kunst/Kultur,Musik,Wien
ATTACH;FMTTYPE=image/jpeg:https://www.strawanzerin.at/wp-content/uploads/2024/11/bbc639f1-9872-43ad-9b0e-4b7e90d997ad-1.jpg
ORGANIZER;CN="EnChoir%20Vienna":MAILTO:info@enchoir-vienna.com
END:VEVENT
END:VCALENDAR