BEGIN:VCALENDAR
VERSION:2.0
PRODID:-//STRAWANZERIN - ECPv4.9.5//NONSGML v1.0//EN
CALSCALE:GREGORIAN
METHOD:PUBLISH
X-WR-CALNAME:STRAWANZERIN
X-ORIGINAL-URL:https://www.strawanzerin.at
X-WR-CALDESC:Veranstaltungen im STRAWANZERIN
BEGIN:VTIMEZONE
TZID:"Europe/Vienna"
BEGIN:DAYLIGHT
TZOFFSETFROM:+0100
TZOFFSETTO:+0200
TZNAME:CEST
DTSTART:20220327T010000
END:DAYLIGHT
BEGIN:STANDARD
TZOFFSETFROM:+0200
TZOFFSETTO:+0100
TZNAME:CET
DTSTART:20221030T010000
END:STANDARD
END:VTIMEZONE
BEGIN:VEVENT
DTSTART;TZID="Europe/Vienna":20220123T193000
DTEND;TZID="Europe/Vienna":20220123T210000
DTSTAMP:20260421T011913
CREATED:20211221T122624Z
LAST-MODIFIED:20220113T154446Z
UID:82275-1642966200-1642971600@www.strawanzerin.at
SUMMARY:Entgrenzungen - Chorkonzert
DESCRIPTION:Der Begriff Entgrenzung ist vielschichtig und kann in vielerlei Hinsicht verwendet werden. Ob im religiösen\, gesellschaftlichen\, ökonomischen oder symbolischen Kontext – ein oftmals verwendeter Terminus mit teils unterschiedlichsten Bedeutungsebenen.\nWir beschäftigen uns in unserem Konzert mit diesen vielen verschiedenen Arten von Entgrenzungen  und betrachten diverse Entgrenzungsmöglichkeiten sowie deren Auswirkungen.\nEin Ziel unseres Programmes ist\, den Begriff Entgrenzung in verschiedenen Kontexten zu betrachten und darzustellen sowie diverse Stücke\, die das Thema Entgrenzung behandeln\, gegenüberzustellen.\nEin wesentlicher Teil unseres Programmes ist die Darstellung und Hervorhebung der Transzendenz\, die sich auf unterschiedlichste Art und Weise darstellen und erfahren lässt (Selbsttranszendenz\, religiöse Transzendenz\, mystische Transzendenz).  \nmit Werken von: Ligeti\, Schnittke\, Mahler ua.  \n
URL:https://www.strawanzerin.at/termin/entgrenzungen-chorkonzert-2/
LOCATION:Pfarrkirche Perchtoldsdorf\, Marktplatz 14\, Perchtoldsdorf\, Niederösterreich\, 2380\, Österreich
ORGANIZER;CN="chorus%20ALEA":MAILTO:chorusalea@gmail.com
END:VEVENT
END:VCALENDAR