BEGIN:VCALENDAR
VERSION:2.0
PRODID:-//STRAWANZERIN - ECPv4.9.5//NONSGML v1.0//EN
CALSCALE:GREGORIAN
METHOD:PUBLISH
X-WR-CALNAME:STRAWANZERIN
X-ORIGINAL-URL:https://www.strawanzerin.at
X-WR-CALDESC:Veranstaltungen im STRAWANZERIN
BEGIN:VTIMEZONE
TZID:"Europe/Vienna"
BEGIN:DAYLIGHT
TZOFFSETFROM:+0100
TZOFFSETTO:+0200
TZNAME:CEST
DTSTART:20250330T010000
END:DAYLIGHT
BEGIN:STANDARD
TZOFFSETFROM:+0200
TZOFFSETTO:+0100
TZNAME:CET
DTSTART:20251026T010000
END:STANDARD
END:VTIMEZONE
BEGIN:VEVENT
DTSTART;TZID="Europe/Vienna":20251124T190000
DTEND;TZID="Europe/Vienna":20251124T220000
DTSTAMP:20260420T144240
CREATED:20251106T151724Z
LAST-MODIFIED:20251106T151724Z
UID:110851-1764010800-1764021600@www.strawanzerin.at
SUMMARY:Erbschaftsangelegenheiten
DESCRIPTION:Die Arbeitsgemeinschaft Autorinnen lässt die Tradition des Tagebuchtags in einer literarischen Lesung wieder aufleben. \nMit: Ruth Anne Byrne\, Susan Fuchs\, Doris Hecht-Aichholzer\, Nicole Kranzl\, Ilse Krüger\, Irmgard Resch\, Hedwig Seyr-Glatz und Sascha Wittmann \nModeration: Barbara Neuwirth \n
URL:https://www.strawanzerin.at/termin/erbschaftsangelegenheiten/
LOCATION:Wolke 16\, VHS Ottakring\, Ludo Hartmann-Platz 7\, Wien\, Wien\, 1160\, Österreich
CATEGORIES:Barrierefrei,Gratis,Kunst/Kultur,Literatur,Wien
ATTACH;FMTTYPE=image/jpeg:https://www.strawanzerin.at/wp-content/uploads/2025/11/Feder.jpg
ORGANIZER;CN="Arbeitsgemeinschaft%20Autorinnen":MAILTO:sascha_wittmann@hotmail.com
END:VEVENT
END:VCALENDAR