BEGIN:VCALENDAR
VERSION:2.0
PRODID:-//STRAWANZERIN - ECPv4.9.5//NONSGML v1.0//EN
CALSCALE:GREGORIAN
METHOD:PUBLISH
X-WR-CALNAME:STRAWANZERIN
X-ORIGINAL-URL:https://www.strawanzerin.at
X-WR-CALDESC:Veranstaltungen im STRAWANZERIN
BEGIN:VTIMEZONE
TZID:"Europe/Vienna"
BEGIN:DAYLIGHT
TZOFFSETFROM:+0100
TZOFFSETTO:+0200
TZNAME:CEST
DTSTART:20180325T010000
END:DAYLIGHT
BEGIN:STANDARD
TZOFFSETFROM:+0200
TZOFFSETTO:+0100
TZNAME:CET
DTSTART:20181028T010000
END:STANDARD
END:VTIMEZONE
BEGIN:VEVENT
DTSTART;TZID="Europe/Vienna":20180324T110000
DTEND;TZID="Europe/Vienna":20180324T150000
DTSTAMP:20260421T210012
CREATED:20180318T163548Z
LAST-MODIFIED:20180319T113705Z
UID:53593-1521889200-1521903600@www.strawanzerin.at
SUMMARY:Eröffnung Spielwarenladen Wichtelkram
DESCRIPTION:Spielwarenladen Wichtelkram lädt ein zur Eröffnung am Samstag den 24.3.2018 um 11 Uhr in der Hauptstrasse 56\, Mödling \nWichtelkram ist ein kleiner Spielwarenladen\, der sich auf nachhaltige\, pädagogisch wertvolle Produkte rund um Kinder von 0 – 12 Jahren spezialisiert. Kunden stehen ausserdem viele kostenlose Zusatzleistungen in den Räumlichkeiten zur Verfügung\, wie Stillecke\, Spielecke\, Wickeltisch\, Wasser – und Kaffee zur kostenfreien Selbstversorgung –  und ein monatliches\, kostenfreies Kulturprogramm! \n
URL:https://www.strawanzerin.at/termin/eroeffnung-spielwarenladen-wichtelkram/
CATEGORIES:Gratis,Kinderkultur,Niederösterreich
ATTACH;FMTTYPE=image/jpeg:https://www.strawanzerin.at/wp-content/uploads/2018/03/28576149_920810198077546_5610313156715077548_n.jpg
END:VEVENT
END:VCALENDAR