BEGIN:VCALENDAR
VERSION:2.0
PRODID:-//STRAWANZERIN - ECPv4.9.5//NONSGML v1.0//EN
CALSCALE:GREGORIAN
METHOD:PUBLISH
X-WR-CALNAME:STRAWANZERIN
X-ORIGINAL-URL:https://www.strawanzerin.at
X-WR-CALDESC:Veranstaltungen im STRAWANZERIN
BEGIN:VTIMEZONE
TZID:"Europe/Vienna"
BEGIN:DAYLIGHT
TZOFFSETFROM:+0100
TZOFFSETTO:+0200
TZNAME:CEST
DTSTART:20200329T010000
END:DAYLIGHT
BEGIN:STANDARD
TZOFFSETFROM:+0200
TZOFFSETTO:+0100
TZNAME:CET
DTSTART:20201025T010000
END:STANDARD
END:VTIMEZONE
BEGIN:VEVENT
DTSTART;TZID="Europe/Vienna":20200307T110000
DTEND;TZID="Europe/Vienna":20200308T170000
DTSTAMP:20260422T103837
CREATED:20200221T160107Z
LAST-MODIFIED:20200305T101050Z
UID:72564-1583578800-1583686800@www.strawanzerin.at
SUMMARY:EröffnungsErlebnis: Führungen und Workshops für alle von 6 bis 99
DESCRIPTION:Ein Programm für Alle\nSamstag\, 07. März 2020 und Sonntag\, 08. März 2020 \nDas Künstlerhaus eröffnet ab 7. März 2020 seine Tore! Komm vorbei\, feiere mit uns die Wiedereröffnung und werde für einen Tag Mitglied in der Künstlerhaus Vereinigung! Auf dich wartet eine Vielfalt an unterschiedlichen Techniken und Kunstarten\, die du gemeinsam mit den Künstler*innen ausprobieren kannst. \nVon 11-17 Uhr wird am Samstag und Sonntag ein reges und vielfältiges Programm in Form von Workshops und Führungen angeboten. \n
URL:https://www.strawanzerin.at/termin/eroeffnungserlebnis-fuehrungen-und-workshops-fuer-alle-von-6-bis-99/
LOCATION:Künstlerhaus\, Karlsplatz 5\, Wien\, 1010\, Österreich
CATEGORIES:Ausstellung,Gratis,Kinderkultur,Kunst/Kultur,Wien,Workshop
ORGANIZER;CN="K%C3%BCnstlerhaus%20Gesellschaft%20bildender%20K%C3%BCnstlerinnen%20und%20K%C3%BCnstler%20%C3%96sterreichs":MAILTO:reception@k-haus.at
GEO:48.200534;16.3715493
X-APPLE-STRUCTURED-LOCATION;VALUE=URI;X-ADDRESS=Künstlerhaus Karlsplatz 5 Wien 1010 Österreich;X-APPLE-RADIUS=500;X-TITLE=Karlsplatz 5:geo:16.3715493,48.200534
END:VEVENT
END:VCALENDAR