BEGIN:VCALENDAR
VERSION:2.0
PRODID:-//STRAWANZERIN - ECPv4.9.5//NONSGML v1.0//EN
CALSCALE:GREGORIAN
METHOD:PUBLISH
X-WR-CALNAME:STRAWANZERIN
X-ORIGINAL-URL:https://www.strawanzerin.at
X-WR-CALDESC:Veranstaltungen im STRAWANZERIN
BEGIN:VTIMEZONE
TZID:"Europe/Vienna"
BEGIN:DAYLIGHT
TZOFFSETFROM:+0100
TZOFFSETTO:+0200
TZNAME:CEST
DTSTART:20210328T010000
END:DAYLIGHT
BEGIN:STANDARD
TZOFFSETFROM:+0200
TZOFFSETTO:+0100
TZNAME:CET
DTSTART:20211031T010000
END:STANDARD
END:VTIMEZONE
BEGIN:VEVENT
DTSTART;TZID="Europe/Vienna":20210615T190000
DTEND;TZID="Europe/Vienna":20210615T210000
DTSTAMP:20260424T000353
CREATED:20210610T144402Z
LAST-MODIFIED:20210610T144402Z
UID:77470-1623783600-1623790800@www.strawanzerin.at
SUMMARY:erotisch altern?
DESCRIPTION:Lesung \nerotisch altern? \nCafé Florianihof\, Florianigasse 45\, 1080 Wien\nDienstag\, 15. Juni 2021 19.00 ct\nEin Parcour durch Lustiges und Lästiges \nChrista Nebenführ liest „Der schwarze Hund“\nChristoph Braendle liest Auszüge aus „Das Wiener Dekameron“\nMonika Gentner liest „Liebhabereien\, Liebhaber-Reihen“ \nanschließend Nachtgespräch \n
URL:https://www.strawanzerin.at/termin/erotisch-altern/
CATEGORIES:Literatur
ATTACH;FMTTYPE=image/png:https://www.strawanzerin.at/wp-content/uploads/2021/06/erotisch-altern-vorne.png
ORGANIZER;CN="GAV":MAILTO: office@gav.at
END:VEVENT
END:VCALENDAR