BEGIN:VCALENDAR
VERSION:2.0
PRODID:-//STRAWANZERIN - ECPv4.9.5//NONSGML v1.0//EN
CALSCALE:GREGORIAN
METHOD:PUBLISH
X-WR-CALNAME:STRAWANZERIN
X-ORIGINAL-URL:https://www.strawanzerin.at
X-WR-CALDESC:Veranstaltungen im STRAWANZERIN
BEGIN:VTIMEZONE
TZID:"Europe/Helsinki"
BEGIN:DAYLIGHT
TZOFFSETFROM:+0200
TZOFFSETTO:+0300
TZNAME:EEST
DTSTART:20160327T010000
END:DAYLIGHT
BEGIN:STANDARD
TZOFFSETFROM:+0300
TZOFFSETTO:+0200
TZNAME:EET
DTSTART:20161030T010000
END:STANDARD
END:VTIMEZONE
BEGIN:VEVENT
DTSTART;TZID="Europe/Helsinki":20160620T193000
DTEND;TZID="Europe/Helsinki":20160620T210000
DTSTAMP:20260421T211623
CREATED:20160321T232529Z
LAST-MODIFIED:20160322T095411Z
UID:25674-1466451000-1466456400@www.strawanzerin.at
SUMMARY:Es brennt a Welt. Chorkonzert Gegenstimmen
DESCRIPTION:Wir alle sind Rädchen in einem System\, in dem es zunehmend brennt: die Märkte\, die Gier nach Geld und nach Macht… Unrecht\, ideologische Beschränktheit und dogmatischer Hass zerstören Leben und Menschenwürde. Und die Brandherde liegen nicht nur weit weg von uns\, wie im Nahen Osten – wir stecken mittendrin. Die „heiligen Kriege“ unserer europäischen Wertegemeinschaft finden auch an den Börsen\, auf Regierungsbänken und in den Boulevardmedien statt. \nWas klar ist: wir brauchen beherzte Menschen\, ungebrochenen Mut und gemeinsames Tun.\nUnd: keine Angst! \nDiesmal kamen die Liedvorschläge und Gestaltungsideen aus dem Chor\, und fast alle neu zu schreibenden Arrangements von Chorleiter Stefan Foidl. \nMITWIRKENDE:\nChor: Gegenstimmen\nMusikalische Leitung: Stefan Foidl\nE-Gitarre: Lukas Thöni\nE-Bass: Alex Neumayr\nLive-Malerei: Fritz Babe \nKARTENPREISE: € 20\,- | € 15\,- (für Menschen unter 18 Jahre und Arbeitslose)\nKARTENRESERVIERUNG : tickets@gegenstimmen.org \n
URL:https://www.strawanzerin.at/termin/es-brennt-a-welt-chorkonzert-gegenstimmen-5/
LOCATION:brut im Künstlerhaus\, Karlsplatz 5\, Wien\, 1010\, Österreich
CATEGORIES:ab 7,Antirassimus,Deutsch,Musik,Wien
ATTACH;FMTTYPE=image/jpeg:https://www.strawanzerin.at/wp-content/uploads/2016/03/Es-brennt-a-Welt-Rot-finish-Web_ausschnitt-4.jpg
GEO:48.200534;16.3715493
X-APPLE-STRUCTURED-LOCATION;VALUE=URI;X-ADDRESS=brut im Künstlerhaus Karlsplatz 5 Wien 1010 Österreich;X-APPLE-RADIUS=500;X-TITLE=Karlsplatz 5:geo:16.3715493,48.200534
END:VEVENT
END:VCALENDAR