BEGIN:VCALENDAR
VERSION:2.0
PRODID:-//STRAWANZERIN - ECPv4.9.5//NONSGML v1.0//EN
CALSCALE:GREGORIAN
METHOD:PUBLISH
X-WR-CALNAME:STRAWANZERIN
X-ORIGINAL-URL:https://www.strawanzerin.at
X-WR-CALDESC:Veranstaltungen im STRAWANZERIN
BEGIN:VTIMEZONE
TZID:"Europe/Helsinki"
BEGIN:DAYLIGHT
TZOFFSETFROM:+0200
TZOFFSETTO:+0300
TZNAME:EEST
DTSTART:20170326T010000
END:DAYLIGHT
BEGIN:STANDARD
TZOFFSETFROM:+0300
TZOFFSETTO:+0200
TZNAME:EET
DTSTART:20171029T010000
END:STANDARD
END:VTIMEZONE
BEGIN:VEVENT
DTSTART;TZID="Europe/Helsinki":20170218T200000
DTEND;TZID="Europe/Helsinki":20170218T220000
DTSTAMP:20260422T112710
CREATED:20170131T143941Z
LAST-MODIFIED:20170201T120106Z
UID:39539-1487448000-1487455200@www.strawanzerin.at
SUMMARY:Es brennt a Welt. Konzert Gegenstimmen
DESCRIPTION:Die Gegenstimmen freuen sich auf den Auftritt am 18. Februar im mo.ë\nin der Thelemanngasse. \nKARTEN: Mindestspende 13 €\, der Reinerlös kommt dem mo.ë zugute.\nRESERVIERUNG: tickets@gegenstimmen.org\nINFOS: www.gegenstimmen.org \nES BRENNT A WELT – WORUM ES GEHT:\nWir alle sind Rädchen in einem System\, in dem es zunehmend brennt: die Märkte\, die Gier nach Geld und Macht… Unrecht\, ideologische Beschränktheit und dogmatischer Hass zerstören Leben und Menschenwürde. Und die Brandherde liegen nicht nur weit weg von uns\, wie im Nahen Osten – wir stecken mittendrin. Die „heiligen Kriege“ unserer europäischen Wertegemeinschaft finden auch an den Bö…rsen\, auf Regierungsbänken und in den Boulevardmedien statt.\nWas klar ist: wir brauchen beherzte Menschen\, ungebrochenen Mut und gemeinsames Tun.\nUnd: keine Angst! \nMITWIRKENDE:\nChor: Gegenstimmen\nMusikalische Leitung: Stefan Foidl\nE-Gitarre: Lukas Thöni\nE-Bass: Alexander Hofmayr\nLive-Malerei: Birgit Kellner\nDramaturgische Unterstützung: Nika Sommeregger \nDie GEGENSTIMMEN sind Mitglied bei Hunger auf Kunst und Kultur http://hungeraufkunstundkultur.at/ \n
URL:https://www.strawanzerin.at/termin/es-brennt-a-welt-konzert-gegenstimmen/
LOCATION:Österreich
END:VEVENT
END:VCALENDAR