BEGIN:VCALENDAR
VERSION:2.0
PRODID:-//STRAWANZERIN - ECPv4.9.5//NONSGML v1.0//EN
CALSCALE:GREGORIAN
METHOD:PUBLISH
X-WR-CALNAME:STRAWANZERIN
X-ORIGINAL-URL:https://www.strawanzerin.at
X-WR-CALDESC:Veranstaltungen im STRAWANZERIN
BEGIN:VTIMEZONE
TZID:"Europe/Vienna"
BEGIN:DAYLIGHT
TZOFFSETFROM:+0100
TZOFFSETTO:+0200
TZNAME:CEST
DTSTART:20220327T010000
END:DAYLIGHT
BEGIN:STANDARD
TZOFFSETFROM:+0200
TZOFFSETTO:+0100
TZNAME:CET
DTSTART:20221030T010000
END:STANDARD
END:VTIMEZONE
BEGIN:VEVENT
DTSTART;TZID="Europe/Vienna":20220927T190000
DTEND;TZID="Europe/Vienna":20220927T190000
DTSTAMP:20260420T101145
CREATED:20220913T072821Z
LAST-MODIFIED:20220922T095536Z
UID:86463-1664305200-1664305200@www.strawanzerin.at
SUMMARY:Es ist höchste Zeit! - die Gerechtigkeit und das Klima. future ethics
DESCRIPTION:Den Folgen des Klimawandels wird niemand auf der Welt entkommen. Der Klimawandel wird durch den Ausstoß von Treibhausgasen beschleunigt und die Verantwortung dafür liegt ursächlich bei den Industriestaaten. Diejenigen\, die jedoch durch ihren geringen Mittelverbrauch am wenigsten für den Klimawandel verantwortlich sind\, sind viel stärker von den negativen Folgen betroffen.  \nIst es möglich\, die ungleiche Verteilung der Folgen des Klimawandels unter Berücksichtigung des Verursacherprinzips auszugleichen? Wie können Klimagerechtigkeit und Systemwandel vereinbart werden und welche neuen Technologien braucht es dazu? Können die Lasten\, Risiken aber auch die Chancen gerecht verteilt werden? Ist ein „gutes Leben“ für alle überhaupt möglich? \nAm Podium: \nLeonore Gewessler\, Bundesministerin für Klimaschutz\, Umwelt\, Energie\, Mobilität\, Innovation und Technologie\nSabine Herlitschka\, CEO\, Infineon Technologies Austria AG\nMichaela Krömer\, Rechtsanwältin \nModeration: \nWalter Hämmerle\, Chefredakteur Wiener Zeitung  \nBegrüßung: \nMaria Katharina Moser\, Direktorin Diakonie Österreich\nMartin Fleischhacker\, Geschäftsführer Wiener Zeitung \nIn Kooperation mit: \nWiener Zeitung\nDiakonie Österreich \nAktuelle Informationen zur Anmeldemöglichkeiten auf www.wienerzeitung.at/futureethics. \n
URL:https://www.strawanzerin.at/termin/es-ist-hoechste-zeit-die-gerechtigkeit-und-das-klima-future-ethics/
LOCATION:Albert-Schweitzer-Haus\, Saal\, Schwarzspanierstraße 13\, Wien\, 1090\, Österreich
ATTACH;FMTTYPE=image/jpeg:https://www.strawanzerin.at/wp-content/uploads/2022/09/markus-spiske-dYZumbs8f_E-unsplash_2_.jpg
END:VEVENT
END:VCALENDAR