BEGIN:VCALENDAR
VERSION:2.0
PRODID:-//STRAWANZERIN - ECPv4.9.5//NONSGML v1.0//EN
CALSCALE:GREGORIAN
METHOD:PUBLISH
X-WR-CALNAME:STRAWANZERIN
X-ORIGINAL-URL:https://www.strawanzerin.at
X-WR-CALDESC:Veranstaltungen im STRAWANZERIN
BEGIN:VTIMEZONE
TZID:"Europe/Paris"
BEGIN:DAYLIGHT
TZOFFSETFROM:+0100
TZOFFSETTO:+0200
TZNAME:CEST
DTSTART:20150329T010000
END:DAYLIGHT
BEGIN:STANDARD
TZOFFSETFROM:+0200
TZOFFSETTO:+0100
TZNAME:CET
DTSTART:20151025T010000
END:STANDARD
END:VTIMEZONE
BEGIN:VEVENT
DTSTART;TZID="Europe/Paris":20150820T193000
DTEND;TZID="Europe/Paris":20150820T230000
DTSTAMP:20260423T105233
CREATED:20150811T100608Z
LAST-MODIFIED:20150817T095418Z
UID:19047-1440099000-1440111600@www.strawanzerin.at
SUMMARY:Es roch nach alter Farbe...
DESCRIPTION:„ES ROCH NACH ALTER FARBE…“ – Vortrag zum Thema Kunstfälschung – in der Challery. \nExpertenvortrag zum Thema Kunstfälschungen in der Challery  \nErfundene Provenienzen\, hohe technische Qualität\, falsche Expertisen: Wolfgang Beltracchi hat jahrzehntelang die Kunstwelt genarrt. Er malte Bilder im Stile eines Emil Nolde\, Heinrich Campendonk\, Max Ernst oder Max Pechstein und verkaufte diese als Originale an Galerien und Sammler\, gab sie in Auktionen. Viele seiner bis zu 300 Gemälde\, die er nach eigenen Angaben in den Markt schleuste\, sind bis heute nicht als Fälschung identifiziert und hängen sogar in großen Museen.  \nKann man heute überhaupt sicher sein\, ein „echtes“ Gemälde zu kaufen? Darf man sich auf Expertisen verlassen? Ist man auf der sicheren Seite\, wenn man zeitgenössische Kunst kauft\, die angeblich nicht gefälscht wird? Und wie werden Kunstfälscher entlarvt\, wenn es selbst mit modernen chemischen und röntgenlogischen Untersuchungen schwierig ist\, eine Fälschung nachzuweisen?  \nZu diesen und weiteren spannenden Fragen wird Alexander Teissig\, Herausgeber das Austria Art Guide 2010 und 2011\, Experte für Kunstfälschungen und für abstrakte Malerei in Österreich\, einen Vortrag in der Challery halten.\n––––––––––––––––––––––––––––––––––– \nVortag „Es roch nach alter Farbe …“ \nTermin: Donnerstag\, 20. August\nZeit: 19.30 Uhr\nOrt: Challery im Wohnsalon (1. Stock)\nAdresse: Schwertgasse 4\, 1010 Wien\nVotragender: Alexander Teissig\n––––––––––––––––––––––––––––––––––– \n100 Prozent Kunst\, 100 Prozent Spende.\nAlle Werke\, die in der Challery zum Verkauf angeboten werden\, wurden von renommierten KünstlerInnen gestiftet. Der Verkaufserlös kommt zur Gänze einem guten Zweck zu – im August dem CS Hospiz Rennweg. \nDie Challery ist im ersten Stock des Wohnsalon\, Schwertgasse 4\, 1010 Wien zu finden. Öffnungszeiten: Montag bis Samstag von 10 bis 18 Uhr.\nWeitere Informationen über Österreichs erste Charity Gallery und alle Arbeiten\, die es aktuell in der Challery zu erwerben gibt\, finden Sie auf unserer Website (www.challery.net) oder auf Facebook (www.facebook.com/ChalleryWien). \n
URL:https://www.strawanzerin.at/termin/es-roch-nach-alter-farbe/
LOCATION:Österreich
CATEGORIES:Ausstellung,Deutsch,Gratis,Kunst/Kultur,Wien
ATTACH;FMTTYPE=image/jpeg:https://www.strawanzerin.at/wp-content/uploads/2015/08/Vortrag-Kunstfälschung.jpg
END:VEVENT
END:VCALENDAR