BEGIN:VCALENDAR
VERSION:2.0
PRODID:-//STRAWANZERIN - ECPv4.9.5//NONSGML v1.0//EN
CALSCALE:GREGORIAN
METHOD:PUBLISH
X-WR-CALNAME:STRAWANZERIN
X-ORIGINAL-URL:https://www.strawanzerin.at
X-WR-CALDESC:Veranstaltungen im STRAWANZERIN
BEGIN:VTIMEZONE
TZID:"Europe/Vienna"
BEGIN:DAYLIGHT
TZOFFSETFROM:+0100
TZOFFSETTO:+0200
TZNAME:CEST
DTSTART:20220327T010000
END:DAYLIGHT
BEGIN:STANDARD
TZOFFSETFROM:+0200
TZOFFSETTO:+0100
TZNAME:CET
DTSTART:20221030T010000
END:STANDARD
END:VTIMEZONE
BEGIN:VEVENT
DTSTART;TZID="Europe/Vienna":20220903T140000
DTEND;TZID="Europe/Vienna":20220903T170000
DTSTAMP:20260420T173946
CREATED:20220805T110908Z
LAST-MODIFIED:20220817T131540Z
UID:85848-1662213600-1662224400@www.strawanzerin.at
SUMMARY:ESSBARER STADTSPAZIERGANG
DESCRIPTION:Erkunden Sie mit der Ernährungsexpertin und Autorin Alexandra Maria Rath auf einem Spaziergang durch die Stadt essbare Wildpflanzen. Gemeinsam spazieren wir zum Donaukanal und schauen uns dort die essbaren Wildpflanzen an. Im Anschluss gibt es ein gemütliches Beisammensein\, in der Grätzloase\, bei dem Wildpflanzen-Snacks und Getränke verkostet werden können. \nTreffpunkt: Grätzloase vor dem Hauteingang\nOrt: KUNST HAUS WIEN \n
URL:https://www.strawanzerin.at/termin/essbarer-stadtspaziergang/
LOCATION:Kunst Haus Wien\, Untere Weißgerberstr. 13\, Wien\, 1030\, Österreich
ATTACH;FMTTYPE=image/jpeg:https://www.strawanzerin.at/wp-content/uploads/2022/08/KHW_STADTSPAZIERGANG_c_WildesWien_GefuellteLindenblaetter1020.jpg
ORGANIZER;CN="Kunst%20Haus%20Wien":MAILTO:info@kunsthauswien.com
END:VEVENT
END:VCALENDAR