BEGIN:VCALENDAR
VERSION:2.0
PRODID:-//STRAWANZERIN - ECPv4.9.5//NONSGML v1.0//EN
CALSCALE:GREGORIAN
METHOD:PUBLISH
X-WR-CALNAME:STRAWANZERIN
X-ORIGINAL-URL:https://www.strawanzerin.at
X-WR-CALDESC:Veranstaltungen im STRAWANZERIN
BEGIN:VTIMEZONE
TZID:"Europe/Vienna"
BEGIN:DAYLIGHT
TZOFFSETFROM:+0100
TZOFFSETTO:+0200
TZNAME:CEST
DTSTART:20180325T010000
END:DAYLIGHT
BEGIN:STANDARD
TZOFFSETFROM:+0200
TZOFFSETTO:+0100
TZNAME:CET
DTSTART:20181028T010000
END:STANDARD
END:VTIMEZONE
BEGIN:VEVENT
DTSTART;TZID="Europe/Vienna":20180320T190000
DTEND;TZID="Europe/Vienna":20180320T210000
DTSTAMP:20260421T211804
CREATED:20180302T102357Z
LAST-MODIFIED:20180302T102357Z
UID:53210-1521572400-1521579600@www.strawanzerin.at
SUMMARY:Europa denken: Freiheit und Verantwortung
DESCRIPTION:2017 wurde das 500. Jubiläum der Reformation gefeiert. Für die evangelischen Kirchen i. Ö. standen die Begriffe Freiheit und Verantwortung im Fokus von Reflektionen zu historischen Entwicklungen und der Auseinandersetzung mit der Gegenwart. Welche Verantwortung übernehmen Kirchen im europäischen Integrationsprozess? Welche Beiträge leisten sie für ein friedvolles\, menschenwürdiges Zusammenleben? Kritischer Austausch zwischen Religionen und Politik gewinnt in einer komplexer werdenden Welt an Bedeutung. Neue Konzepte sind gefragt. \nIm Gespräch: \nMichael Bünker\, Bischof der Evangelischen Kirche AB i. Ö.\,   Generalsekretär d. Gemeinschaft Evang. Kirchen in Europa\nSilke Lechner\, stellv. Leiterin des Arbeitsstabes “Friedensverantwortung der Religionen“\, Auswärtiges Amt\, Berlin\nIsolde Charim\, Philosophin\, Publizistin\nMartin Pollack\, Schriftsteller\, Journalist\nUlrike Lunacek\, ehemalige Vizepräsidentin des Europäischen Parlaments \nModeration: Peter Huemer\, Zeithistoriker\, Publizist \nIn Kooperation mit: Haus der Europäischen Union \n
URL:https://www.strawanzerin.at/termin/europa-denken-freiheit-und-verantwortung/
LOCATION:Haus der Europäischen Union\, Wipplingerstraße 35\, Wien\, Wien\, 1010\, Österreich
CATEGORIES:Gratis,Transnational,Vortrag/Symposium,Wien
ATTACH;FMTTYPE=image/jpeg:https://www.strawanzerin.at/wp-content/uploads/2018/03/facebook_banner.jpg
ORGANIZER;CN="Evangelische%20Akademie%20Wien":MAILTO:akademie@evang.at
GEO:48.2146888;16.3657984
X-APPLE-STRUCTURED-LOCATION;VALUE=URI;X-ADDRESS=Haus der Europäischen Union Wipplingerstraße 35 Wien Wien 1010 Österreich;X-APPLE-RADIUS=500;X-TITLE=Wipplingerstraße 35:geo:16.3657984,48.2146888
END:VEVENT
END:VCALENDAR