BEGIN:VCALENDAR
VERSION:2.0
PRODID:-//STRAWANZERIN - ECPv4.9.5//NONSGML v1.0//EN
CALSCALE:GREGORIAN
METHOD:PUBLISH
X-WR-CALNAME:STRAWANZERIN
X-ORIGINAL-URL:https://www.strawanzerin.at
X-WR-CALDESC:Veranstaltungen im STRAWANZERIN
BEGIN:VTIMEZONE
TZID:"Europe/Paris"
BEGIN:DAYLIGHT
TZOFFSETFROM:+0100
TZOFFSETTO:+0200
TZNAME:CEST
DTSTART:20150329T010000
END:DAYLIGHT
BEGIN:STANDARD
TZOFFSETFROM:+0200
TZOFFSETTO:+0100
TZNAME:CET
DTSTART:20151025T010000
END:STANDARD
END:VTIMEZONE
BEGIN:VEVENT
DTSTART;TZID="Europe/Paris":20150912T190000
DTEND;TZID="Europe/Paris":20150913T060000
DTSTAMP:20260419T133837
CREATED:20150826T140811Z
LAST-MODIFIED:20150826T140811Z
UID:19174-1442084400-1442124000@www.strawanzerin.at
SUMMARY:EUROPA
DESCRIPTION:Ein Festival für Europa. Aber dieses Europa ist es nicht. Dieses Europa der geretteten Banken und vergessenen Armen\, dieses Europa der Wirtschaftskriege\, dieses Europa der Technokratie\, dieses unsolidarische Europa lehnen wir ab. \nGemeinsam mit VertreterInnen aus Musik\, Theater und bildender Kunst haben wir beschlossen\, ein Kunstfestival zum Thema „EUROPA“ zu veranstalten. \nAlle Infos auf https://aykit.eu\nEintritt: Freie Spende \n
URL:https://www.strawanzerin.at/termin/europa/
CATEGORIES:Deutsch,Fest,freie Spende,Soziale Kämpfe,Wien
ATTACH;FMTTYPE=image/png:https://www.strawanzerin.at/wp-content/uploads/2015/08/EUROPA_Banner_1500x700_Technokraten.png
ORGANIZER;CN="aykit":MAILTO:z-mailan@ay.vc
END:VEVENT
END:VCALENDAR