BEGIN:VCALENDAR
VERSION:2.0
PRODID:-//STRAWANZERIN - ECPv4.9.5//NONSGML v1.0//EN
CALSCALE:GREGORIAN
METHOD:PUBLISH
X-WR-CALNAME:STRAWANZERIN
X-ORIGINAL-URL:https://www.strawanzerin.at
X-WR-CALDESC:Veranstaltungen im STRAWANZERIN
BEGIN:VTIMEZONE
TZID:"Europe/Vienna"
BEGIN:DAYLIGHT
TZOFFSETFROM:+0100
TZOFFSETTO:+0200
TZNAME:CEST
DTSTART:20210328T010000
END:DAYLIGHT
BEGIN:STANDARD
TZOFFSETFROM:+0200
TZOFFSETTO:+0100
TZNAME:CET
DTSTART:20211031T010000
END:STANDARD
END:VTIMEZONE
BEGIN:VEVENT
DTSTART;VALUE=DATE:20210316
DTEND;VALUE=DATE:20210418
DTSTAMP:20260420T194340
CREATED:20210219T183732Z
LAST-MODIFIED:20210304T094901Z
UID:76439-1615867200-1618631999@www.strawanzerin.at
SUMMARY:Eveline Buca: Bedenkzeit\, Wolfgang Bäuml: Corona-Schutzmonster
DESCRIPTION:Am 16. März wird der Jour fixe am 16. im 16. 2021 wieder virtuell abgehalten. Eveline Buca präsentiert ihre Lesung im Dialog mit einer Handpuppe. Wolfgang Bäuml erweckt in seinen Bildern Monster gegen das Coronavirus zum Leben. \n
URL:https://www.strawanzerin.at/termin/eveline-buca-bedenkzeit-wolfgang-baeuml-corona-schutzmonster/
LOCATION:Cafe Club International C.I.\, Payergasse 14\, Wien\, Wien\, 1160\, Österreich
CATEGORIES:Ausstellung,Deutsch,Gratis,Kunst/Kultur,Literatur,Wien
ATTACH;FMTTYPE=image/jpeg:https://www.strawanzerin.at/wp-content/uploads/2021/02/2021_03_16-CORONISSAGE-Baeuml-Buca-w.jpg
ORGANIZER;CN="Ursula%20Pfeiffer%20verein%20%3A%3Akunst-projekte%3A%3A%20der%20%5Bgalerie%5Dstudio38%20zvr%20123612155":MAILTO:office@galeriestudio38.at
END:VEVENT
END:VCALENDAR