BEGIN:VCALENDAR
VERSION:2.0
PRODID:-//STRAWANZERIN - ECPv4.9.5//NONSGML v1.0//EN
CALSCALE:GREGORIAN
METHOD:PUBLISH
X-WR-CALNAME:STRAWANZERIN
X-ORIGINAL-URL:https://www.strawanzerin.at
X-WR-CALDESC:Veranstaltungen im STRAWANZERIN
BEGIN:VTIMEZONE
TZID:"Europe/Vienna"
BEGIN:DAYLIGHT
TZOFFSETFROM:+0100
TZOFFSETTO:+0200
TZNAME:CEST
DTSTART:20210328T010000
END:DAYLIGHT
BEGIN:STANDARD
TZOFFSETFROM:+0200
TZOFFSETTO:+0100
TZNAME:CET
DTSTART:20211031T010000
END:STANDARD
END:VTIMEZONE
BEGIN:VEVENT
DTSTART;TZID="Europe/Vienna":20211022T160000
DTEND;TZID="Europe/Vienna":20211022T190000
DTSTAMP:20260422T022247
CREATED:20211018T155043Z
LAST-MODIFIED:20211020T122920Z
UID:81232-1634918400-1634929200@www.strawanzerin.at
SUMMARY:Excavations from the darkest Past 2
DESCRIPTION:‚Ausgrabungsarbeiten’ historischer Zeitschichten am Wiener Nordwestbahnhof \nWanderung zur Geschichte jüdischer Unternehmen\, zu Arisierung\, Beraubung\, Verfolgung\, und Zwangsarbeit im Nationalsozialismus \nAls Erinnerungsmale historischer Ereignisse haben Michael Hieslmair und Michael Zinganel (Tracing Spaces) vor Ort „Spuren“ der 1952 abgebrochene Halle des Nordwestbahnhofs und der 1938 darin aufgebauten NS-Propaganda-Ausstellung „Der ewige Jude“ im Maßstab 1:1 am Boden nachgezeichnet und zudem ein Set des Films „Stadt ohne Juden“ in abstrahierter Form als Ghost Structure nachgebaut. War die fiktive Deportation im Film von 1924 vorübergehend\, so zeigte die Ausstellung 1938 ihre fatale Wirkung im Realen: in Pogromen\, Deportationen und Massenvernichtung. \nmit den Historiker*innen Gabriele Anderl\, Bernhard Hachleitner\, Sabine Loitfellner\, Eva Steigberger und Michael Zinganel \nTreffpunkt: jeweils gegenüber Nordwestbahnstraße 11\, 1020 Wien.\nAnmeldung unter: office@tracingspaces.net \ngefördert von KÖR Kunst im öffentlichen Raum Wien sowie dem Zukunftsfonds und Nationalfonds der Republik Österreich. Mit freundlicher Unterstützung von APCOA\, BAI und ÖBB \n
URL:https://www.strawanzerin.at/termin/excavations-from-the-darkest-past-2/
LOCATION:Excavations – Außenstelle des Museum Nordwestbahnhof\, gegenüber Nordwestbahnstraße 11\, 1020 Wien\, Wien\, 1020 Wien
CATEGORIES:Antirassimus,Ausstellung,Rundgang
ATTACH;FMTTYPE=image/jpeg:https://www.strawanzerin.at/wp-content/uploads/2021/10/Excavations_2_Thaler.jpg
ORGANIZER;CN="Museum%20Nordwestbahnhof%20%26amp%3B%20Tracing%20Spaces":MAILTO:office@tracingspaces.net
END:VEVENT
END:VCALENDAR