BEGIN:VCALENDAR
VERSION:2.0
PRODID:-//STRAWANZERIN - ECPv4.9.5//NONSGML v1.0//EN
CALSCALE:GREGORIAN
METHOD:PUBLISH
X-WR-CALNAME:STRAWANZERIN
X-ORIGINAL-URL:https://www.strawanzerin.at
X-WR-CALDESC:Veranstaltungen im STRAWANZERIN
BEGIN:VTIMEZONE
TZID:"Europe/Vienna"
BEGIN:DAYLIGHT
TZOFFSETFROM:+0100
TZOFFSETTO:+0200
TZNAME:CEST
DTSTART:20250330T010000
END:DAYLIGHT
BEGIN:STANDARD
TZOFFSETFROM:+0200
TZOFFSETTO:+0100
TZNAME:CET
DTSTART:20251026T010000
END:STANDARD
END:VTIMEZONE
BEGIN:VEVENT
DTSTART;TZID="Europe/Vienna":20251122T100000
DTEND;TZID="Europe/Vienna":20251122T120000
DTSTAMP:20260421T120218
CREATED:20251113T131832Z
LAST-MODIFIED:20251113T131832Z
UID:110997-1763805600-1763812800@www.strawanzerin.at
SUMMARY:Exkursion Gärtnerei Ganger
DESCRIPTION:Kommen Sie mit in eine Traditionsgärtnerei der Donaustadt! \nGemeinsam entdecken wir\, was im Winter in der Gärtnerei Ganger blüht und wie der Familienbetrieb mit nachhaltigem Anbau\, regionalen Produkten und jeder Menge Herz fürs Handwerk geführt wird.  \nNach der Besichtigung gibt’s genug Zeit\, um das bunte Rahmenprogramm von „Advent im Glashaus“ zu genießen: Vor Ort finden Sie handgemachte Adventkränze\, Naturseifen\, Bienenwachskerzen\, Apfelbrot und Punsch – und noch viel mehr regionale Geschenkideen. \nWann? Samstag\, 22.11.2025\nWo? Gärtnerei Ganger\, Aspernstraße 15\, 1220 Wien \n10-11 Uhr Führung\,\ndanach Ausklang beim Adventzauber im Glashaus \nDie Teilnahme zur Veranstaltung ist kostenlos und für alle Altersgruppen offen!\nUm eine Anmeldung vorab wird gebeten. \n
URL:https://www.strawanzerin.at/termin/exkursion-gaertnerei-ganger/
LOCATION:Gärtnerei Ganger\, Aspernstraße 15-21\, 1220 Wien\, 1220\, Österreich
CATEGORIES:Gratis,Rundgang,Wien
ATTACH;FMTTYPE=image/jpeg:https://www.strawanzerin.at/wp-content/uploads/2025/11/Advent.jpg
ORGANIZER;CN="GB%2A22":MAILTO:ost@gbstern.at
END:VEVENT
END:VCALENDAR