BEGIN:VCALENDAR
VERSION:2.0
PRODID:-//STRAWANZERIN - ECPv4.9.5//NONSGML v1.0//EN
CALSCALE:GREGORIAN
METHOD:PUBLISH
X-WR-CALNAME:STRAWANZERIN
X-ORIGINAL-URL:https://www.strawanzerin.at
X-WR-CALDESC:Veranstaltungen im STRAWANZERIN
BEGIN:VTIMEZONE
TZID:"Europe/Vienna"
BEGIN:DAYLIGHT
TZOFFSETFROM:+0100
TZOFFSETTO:+0200
TZNAME:CEST
DTSTART:20230326T010000
END:DAYLIGHT
BEGIN:STANDARD
TZOFFSETFROM:+0200
TZOFFSETTO:+0100
TZNAME:CET
DTSTART:20231029T010000
END:STANDARD
END:VTIMEZONE
BEGIN:VEVENT
DTSTART;TZID="Europe/Vienna":20230920T180000
DTEND;TZID="Europe/Vienna":20230920T180000
DTSTAMP:20260420T113945
CREATED:20230911T164225Z
LAST-MODIFIED:20230911T164225Z
UID:93791-1695232800-1695232800@www.strawanzerin.at
SUMMARY:EXLIBRIS: MEIN ERSTES BUCH
DESCRIPTION:Herzlichst laden wir Sie ein zum literarischen Abend \n  \nEXLIBRIS \nMEIN ERSTES BUCH \n  \ngewidmet dem 300-jährigen Jubiläum der Nationalbibliothek Wien \n  \nWann: Am 20. September 2023 um 18:00 Uhr\nWo: In der Vinothek Miller-Aichholz\,\nFavoritenstraße 22\, 1040 Wien \n  \nDanach sind alle zu einem Gespräch mit den Autorinnen und Autoren bei Wein und Brot herzlichst eingeladen. \n  \nMit der Teilnahme an unseren Veranstaltungen stimmen Sie der Veröffentlichung von Fotos und Filmaufnahmen\, die im Rahmen der Veranstaltung entstehen\, zu. \n
URL:https://www.strawanzerin.at/termin/exlibris-mein-erstes-buch/
LOCATION:Vinothek Miller-Aichholz\, Favoritenstraße 22\, Wien\, Wien\, 1040\, Österreich
CATEGORIES:Deutsch,Gratis,Literatur,Wien
ATTACH;FMTTYPE=image/png:https://www.strawanzerin.at/wp-content/uploads/2023/09/Plakat_kompr.png
ORGANIZER;CN="Kunstverein%20Anima%20incognita":MAILTO:diana.wiedra@chello.at
GEO:48.193654;16.3701987
X-APPLE-STRUCTURED-LOCATION;VALUE=URI;X-ADDRESS=Vinothek Miller-Aichholz Favoritenstraße 22 Wien Wien 1040 Österreich;X-APPLE-RADIUS=500;X-TITLE=Favoritenstraße 22:geo:16.3701987,48.193654
END:VEVENT
END:VCALENDAR