BEGIN:VCALENDAR
VERSION:2.0
PRODID:-//STRAWANZERIN - ECPv4.9.5//NONSGML v1.0//EN
CALSCALE:GREGORIAN
METHOD:PUBLISH
X-WR-CALNAME:STRAWANZERIN
X-ORIGINAL-URL:https://www.strawanzerin.at
X-WR-CALDESC:Veranstaltungen im STRAWANZERIN
BEGIN:VTIMEZONE
TZID:"Europe/Vienna"
BEGIN:DAYLIGHT
TZOFFSETFROM:+0100
TZOFFSETTO:+0200
TZNAME:CEST
DTSTART:20170326T010000
END:DAYLIGHT
BEGIN:STANDARD
TZOFFSETFROM:+0200
TZOFFSETTO:+0100
TZNAME:CET
DTSTART:20171029T010000
END:STANDARD
END:VTIMEZONE
BEGIN:VEVENT
DTSTART;TZID="Europe/Vienna":20171214T193000
DTEND;TZID="Europe/Vienna":20171214T220000
DTSTAMP:20260420T202134
CREATED:20171128T210412Z
LAST-MODIFIED:20171207T093954Z
UID:50377-1513279800-1513288800@www.strawanzerin.at
SUMMARY:Extraordinary
DESCRIPTION:Für „Extraordinary“\, das dritte Konzert der Saison\, welches am Donnerstag\, den 14. Dezember im Brick-5 stattfindet\, gaben Chanda VanderHart und Deirdre Brenner ihre Zügel an das wundervolle\, talentierte und kreative Trio KlaViS ab.\nKlaViS (der Name wird abgeleitet von Klavier\, Violine\, Saxophon)\, bestehend aus Sabina Hasanova\, Jenny Lippl und Miha Ferk\, werden dieses Mal nicht nur auf der Bühne stehen\, sondern stellten auch das Programm dieses Abends zusammen. Das Trio vereint in diesem Konzert eine Reihe an außergewöhnlichen Künstlern\, welche alle wundervolle\, leicht ungewöhnliche Instrumente spielen. Sie werden sie im herkömmlichen Sinne aber auch auf kreative und außergewöhnliche Art und Weise zum Ausdruck bringen.\nDie Künstlerinnen und Künstler dieses Abends sind Blockflötistin Sheng-Fang Chiu\, Countertenor Nicholas Spanos\, Sopranistin Melanie Henley-Heyn\, Bratschistin Nora Romanoff-Schwarzberg\, Pianistin und Sängerin Yu Horiuchi und Pianist\, Komponist und Comedian Hyung-ki Joo. Die vielschichtige Auswahl der Stücke wird dem Thema „Extraordinary“ entsprechen\, man darf sich\, unter anderem\, auf Werke von Krenek\, Berio\, Schubert\, Ferk\, Gershwin und Joo freuen. Auch das Publikum wird dazu eingeladen\, aus sich herauszukommen und sich etwas zu trauen! \n
URL:https://www.strawanzerin.at/termin/extraordinary/
LOCATION:Brick-5\, Fünfhausgasse 5\, Wien\, Wien\, 1150\, Österreich
CATEGORIES:Deutsch,Englisch,Kunst/Kultur,Musik,Wien
ATTACH;FMTTYPE=image/png:https://www.strawanzerin.at/wp-content/uploads/2017/11/483314218182497.G65MAA0rT8tjc9cMYANe_height640.png
ORGANIZER;CN="Mosa%D1%97que":MAILTO:mosaiquewien@gmail.com
GEO:48.1895928;16.3350335
X-APPLE-STRUCTURED-LOCATION;VALUE=URI;X-ADDRESS=Brick-5 Fünfhausgasse 5 Wien Wien 1150 Österreich;X-APPLE-RADIUS=500;X-TITLE=Fünfhausgasse 5:geo:16.3350335,48.1895928
END:VEVENT
END:VCALENDAR