BEGIN:VCALENDAR
VERSION:2.0
PRODID:-//STRAWANZERIN - ECPv4.9.5//NONSGML v1.0//EN
CALSCALE:GREGORIAN
METHOD:PUBLISH
X-WR-CALNAME:STRAWANZERIN
X-ORIGINAL-URL:https://www.strawanzerin.at
X-WR-CALDESC:Veranstaltungen im STRAWANZERIN
BEGIN:VTIMEZONE
TZID:"Europe/Vienna"
BEGIN:DAYLIGHT
TZOFFSETFROM:+0100
TZOFFSETTO:+0200
TZNAME:CEST
DTSTART:20190331T010000
END:DAYLIGHT
BEGIN:STANDARD
TZOFFSETFROM:+0200
TZOFFSETTO:+0100
TZNAME:CET
DTSTART:20191027T010000
END:STANDARD
END:VTIMEZONE
BEGIN:VEVENT
DTSTART;TZID="Europe/Vienna":20191213T160000
DTEND;TZID="Europe/Vienna":20191213T173000
DTSTAMP:20260420T143838
CREATED:20191203T184418Z
LAST-MODIFIED:20191204T180025Z
UID:70672-1576252800-1576258200@www.strawanzerin.at
SUMMARY:F13 erleuchten
DESCRIPTION:in extremer langsamkeit bewegen sich die performerInnen von SlowForward und willkommene mitmacherInnen\, von der mariahilferstraße\, mit laternen (oder sonstigen leuchtmittel) die stiegen runter vor’s top-kino\, wo sich die Augustin Glühmosthütte „AUGLÜHSTIN“ befindet \n
URL:https://www.strawanzerin.at/termin/f13-erleuchten/
LOCATION:mariahilferstr.-rahlgasse\, mariahilferstr.-rahlgasse\, 1060\, wien\, Österreich
CATEGORIES:Fest,Gratis,Recht auf Stadt,Wien
ATTACH;FMTTYPE=image/jpeg:https://www.strawanzerin.at/wp-content/uploads/2019/12/laterndl.jpg
ORGANIZER;CN="SlowForward":MAILTO:slowolution@slowforward.org
END:VEVENT
END:VCALENDAR