BEGIN:VCALENDAR
VERSION:2.0
PRODID:-//STRAWANZERIN - ECPv4.9.5//NONSGML v1.0//EN
CALSCALE:GREGORIAN
METHOD:PUBLISH
X-WR-CALNAME:STRAWANZERIN
X-ORIGINAL-URL:https://www.strawanzerin.at
X-WR-CALDESC:Veranstaltungen im STRAWANZERIN
BEGIN:VTIMEZONE
TZID:"Europe/Helsinki"
BEGIN:DAYLIGHT
TZOFFSETFROM:+0200
TZOFFSETTO:+0300
TZNAME:EEST
DTSTART:20140330T010000
END:DAYLIGHT
BEGIN:STANDARD
TZOFFSETFROM:+0300
TZOFFSETTO:+0200
TZNAME:EET
DTSTART:20141026T010000
END:STANDARD
END:VTIMEZONE
BEGIN:VEVENT
DTSTART;TZID="Europe/Helsinki":20140613T130000
DTEND;TZID="Europe/Helsinki":20140613T200000
DTSTAMP:20260422T091709
CREATED:20140611T113829Z
LAST-MODIFIED:20140611T113829Z
UID:1612-1402664400-1402689600@www.strawanzerin.at
SUMMARY:F13: «Glück für alle statt Wettlokale»
DESCRIPTION:Republik Reinprechtsdorf: «Glück für alle statt Wettlokale»\, Fest am Siebenbrunnenplatz ab 13 Uhr \n
URL:https://www.strawanzerin.at/termin/f13-glueck-fuer-alle-statt-wettlokale/
LOCATION:Siebenbrunnenplatz\, Siebenbrunnenplatz\, Wien\, Wien\, 1050\, Österreich
CATEGORIES:BKS,Deutsch,Englisch,Fest,Französisch,Gratis,Romanes,Slowenisch,Soziale Kämpfe,Spanisch,Türkisch,Ungarisch,Wien
GEO:48.1853369;16.353458
X-APPLE-STRUCTURED-LOCATION;VALUE=URI;X-ADDRESS=Siebenbrunnenplatz Siebenbrunnenplatz Wien Wien 1050 Österreich;X-APPLE-RADIUS=500;X-TITLE=Siebenbrunnenplatz:geo:16.353458,48.1853369
END:VEVENT
END:VCALENDAR