BEGIN:VCALENDAR
VERSION:2.0
PRODID:-//STRAWANZERIN - ECPv4.9.5//NONSGML v1.0//EN
CALSCALE:GREGORIAN
METHOD:PUBLISH
X-WR-CALNAME:STRAWANZERIN
X-ORIGINAL-URL:https://www.strawanzerin.at
X-WR-CALDESC:Veranstaltungen im STRAWANZERIN
BEGIN:VTIMEZONE
TZID:"Europe/Vienna"
BEGIN:DAYLIGHT
TZOFFSETFROM:+0100
TZOFFSETTO:+0200
TZNAME:CEST
DTSTART:20190331T010000
END:DAYLIGHT
BEGIN:STANDARD
TZOFFSETFROM:+0200
TZOFFSETTO:+0100
TZNAME:CET
DTSTART:20191027T010000
END:STANDARD
END:VTIMEZONE
BEGIN:VEVENT
DTSTART;TZID="Europe/Vienna":20191016T190000
DTEND;TZID="Europe/Vienna":20191108T220000
DTSTAMP:20260425T103521
CREATED:20190906T144544Z
LAST-MODIFIED:20191002T124105Z
UID:67144-1571252400-1573250400@www.strawanzerin.at
SUMMARY:Facettenreiche Bildsprache\, Ur-Ottakringer Lyrik und vielschichtige Erzählungen!
DESCRIPTION:Vernissage – Live-Face-Painting – Lesung – Buchpräsentation – Ausstellung\n„Faces“ – Christian Höld & Nikola Katharina Trefalt\nFranz Blaha „so häd s kaa göödtä näd gschriim“ – Ur-Ottakringer Lyrik\nKarin Gayer „Separation“ – Erzählungen\nDie Ausstellung ist bis Mitte November 2019 täglich von 10-2 Uhr\nbei freiem Eintritt zugänglich. \n
URL:https://www.strawanzerin.at/termin/facettenreiche-bildsprache-ur-ottakringer-lyrik-und-vielschichtige-erzaehlungen/
LOCATION:pin 	 Cafe C.I. – Club International Payergasse 14\, 1160 Wien\, Payergasse 14\, Wien\, Wien\, 1160\, Österreich
CATEGORIES:Ausstellung,Deutsch,freie Spende,Kunst/Kultur,Literatur,Wien
ATTACH;FMTTYPE=image/jpeg:https://www.strawanzerin.at/wp-content/uploads/2019/09/2019_10_16-Vernissage-Lesung.jpg
ORGANIZER;CN="Ursula%20Pfeiffer%20verein%20%3A%3Akunst-projekte%3A%3A%20der%20%5Bgalerie%5Dstudio38%20zvr%20123612155":MAILTO:office@galeriestudio38.at
GEO:48.2141564;16.3359049
X-APPLE-STRUCTURED-LOCATION;VALUE=URI;X-ADDRESS=pin 	 Cafe C.I. – Club International Payergasse 14 1160 Wien Payergasse 14 Wien Wien 1160 Österreich;X-APPLE-RADIUS=500;X-TITLE=Payergasse 14:geo:16.3359049,48.2141564
END:VEVENT
END:VCALENDAR