BEGIN:VCALENDAR
VERSION:2.0
PRODID:-//STRAWANZERIN - ECPv4.9.5//NONSGML v1.0//EN
CALSCALE:GREGORIAN
METHOD:PUBLISH
X-WR-CALNAME:STRAWANZERIN
X-ORIGINAL-URL:https://www.strawanzerin.at
X-WR-CALDESC:Veranstaltungen im STRAWANZERIN
BEGIN:VTIMEZONE
TZID:"Europe/Helsinki"
BEGIN:DAYLIGHT
TZOFFSETFROM:+0200
TZOFFSETTO:+0300
TZNAME:EEST
DTSTART:20170326T010000
END:DAYLIGHT
BEGIN:STANDARD
TZOFFSETFROM:+0300
TZOFFSETTO:+0200
TZNAME:EET
DTSTART:20171029T010000
END:STANDARD
END:VTIMEZONE
BEGIN:VEVENT
DTSTART;TZID="Europe/Helsinki":20170125T160000
DTEND;TZID="Europe/Helsinki":20170125T220000
DTSTAMP:20260423T222038
CREATED:20170111T140257Z
LAST-MODIFIED:20170111T140257Z
UID:38758-1485360000-1485381600@www.strawanzerin.at
SUMMARY:Fachtagung: FairReisen für Alle?
DESCRIPTION:25. Januar\, 16:00 – 21:00\, Bildungszentrum der AK Wien\nPrekäre Arbeit und Ausbeutung – die Schattenseiten der Tourismusindustrie \nRestaurants\, Hotels\, Catering – der Tourismus ist aus Österreich nicht mehr wegzudenken. Allein in Wien gibt es über 63.000 Hotels und Pensionen. Die Anzahl der Übernachtungen in Wien stieg in den vergangenen zehn Jahren um 63\,4 Prozent auf 14\,3 Millionen pro Jahr. Zugleich hat die Tourismusindustrie aufgrund der dortigen Arbeitsbedingungen jedoch keinen guten Ruf: niedrige Löhne\, Arbeiten in der Nacht und am Wochenende\, enorme Arbeitsdichte\, kaum berufliche Aufstiegschancen\, prekäre Arbeitsverhältnisse von Saisonarbeit über undokumentierte Arbeit von Migrant*innen bis hin zu Fällen von Menschenhandel. Die Arbeitgeber*innenseite beklagt dabei häufig »Fachkräftemangel«. \nGemeinsam mit betroffenen Arbeitnehmer*innen sowie Expert*innen aus Wissenschaft\, Gewerkschaften und NGOs diskutieren wir über Arbeitsbedingungen im Tourismus sowie über internationale Best-Practice-Beispiele von Unterstützung und gewerkschaftlicher Organisierung von (migrantischen) Arbeitnehmer*innen. \nProgramm \n16 Uhr Workshops zu Arbeitsrechten und Unterstützungsmöglichkeiten von undokumentiert Arbeitenden sowie Betroffenen von Menschenhandel \n17 Uhr Austausch bei einem Buffet \n18 Uhr Vortrag & Diskussion \nVortrag\nBridget Anderson\, Centre on Migration\, Policy\, and Society (COMPAS)\, Universität Oxford \nDiskussion\nJovanna\, Arbeitnehmerin im Tourismus\nMarica Guldimann\, UNDOK\nEvelyn Probst\, LEFÖ-IBF Interventionsstelle für Betroffene von Frauenhandel\nAlbert Kyncl\, Gewerkschaft vida\nLaura Moreno\, UNITE HERE San Diego \nModeration: Sandra Stern\, UNDOK \nFoto: snowpea&bokchoi CC BY 2.0 \nDer Eintritt ist frei. Um Anmeldung wird gebeten.\nhttps://undok.at/termin/fachtagung-fairreisen-fuer-alle/ \n
URL:https://www.strawanzerin.at/termin/fachtagung-fairreisen-fuer-alle/
LOCATION:AK Bildungszentrum der Arbeiterkammer Wien\, Theresianumgasse 16-18\, Wien\, Wien\, 1040\, Österreich
CATEGORIES:Gratis,Soziale Kämpfe,Vortrag/Symposium,Wien
ORGANIZER;CN="UNDOK%20-%20Anlaufstelle%20zur%20gewerkschaftlichen%20Unterst%C3%BCtzung%20UNDOKumentiert%20Arbeitender":MAILTO:office@undok.at
GEO:48.1924015;16.3756357
X-APPLE-STRUCTURED-LOCATION;VALUE=URI;X-ADDRESS=AK Bildungszentrum der Arbeiterkammer Wien Theresianumgasse 16-18 Wien Wien 1040 Österreich;X-APPLE-RADIUS=500;X-TITLE=Theresianumgasse 16-18:geo:16.3756357,48.1924015
END:VEVENT
END:VCALENDAR