BEGIN:VCALENDAR
VERSION:2.0
PRODID:-//STRAWANZERIN - ECPv4.9.5//NONSGML v1.0//EN
CALSCALE:GREGORIAN
METHOD:PUBLISH
X-WR-CALNAME:STRAWANZERIN
X-ORIGINAL-URL:https://www.strawanzerin.at
X-WR-CALDESC:Veranstaltungen im STRAWANZERIN
BEGIN:VTIMEZONE
TZID:"Europe/Vienna"
BEGIN:DAYLIGHT
TZOFFSETFROM:+0100
TZOFFSETTO:+0200
TZNAME:CEST
DTSTART:20210328T010000
END:DAYLIGHT
BEGIN:STANDARD
TZOFFSETFROM:+0200
TZOFFSETTO:+0100
TZNAME:CET
DTSTART:20211031T010000
END:STANDARD
END:VTIMEZONE
BEGIN:VEVENT
DTSTART;TZID="Europe/Vienna":20211021T200000
DTEND;TZID="Europe/Vienna":20211021T213000
DTSTAMP:20260422T091201
CREATED:20210927T084819Z
LAST-MODIFIED:20210927T084819Z
UID:80333-1634846400-1634851800@www.strawanzerin.at
SUMMARY:FAHRENHEIT 451
DESCRIPTION:In seinem dystopischen Klassiker FAHRENHEIT 451 prophezeite Ray Bradbury auf erschreckende Art und Weise bereits 1953 den visuell-digitalen Informationsfluss und seine Manipulationsmöglichkeit. \nDer Ansatz der Theatermacherinnen Susanne Draxler und Mimu Merz ist es\, mit ihrer Bearbeitung des Romans eine mögliche und vielleicht sehr nahe Zukunft zu zeigen\, in der eine virtuelle Macht die Herrschaft über das Bewusstsein der Menschen übernommen hat\, sodass die Massen vollends lenk- und kontrollierbar sind. Sie entwickeln gemeinsam einen faszinierenden Ausblick in eine Welt\, die nur ein paar Atemzüge weit von uns entfernt sein könnte. \n
URL:https://www.strawanzerin.at/termin/fahrenheit-451-2/2021-10-21/
LOCATION:TAG – Theater an der Gumpendorfer Straße\, Gumpendorfer Straße 67\, Wien\, Wien\, 1060\, Österreich
CATEGORIES:Theater/Kabarett,Wien
ATTACH;FMTTYPE=image/jpeg:https://www.strawanzerin.at/wp-content/uploads/2021/09/TAG_Fahrenheit451_c_Anna_Stoecher-1992-1-scaled.jpg
ORGANIZER;CN="TAG%20-%20Theater%20an%20der%20Gumpendorfer%20Stra%C3%9Fe":MAILTO:karten@dastag.at
GEO:48.1954875;16.3512933
X-APPLE-STRUCTURED-LOCATION;VALUE=URI;X-ADDRESS=TAG – Theater an der Gumpendorfer Straße Gumpendorfer Straße 67 Wien Wien 1060 Österreich;X-APPLE-RADIUS=500;X-TITLE=Gumpendorfer Straße 67:geo:16.3512933,48.1954875
END:VEVENT
END:VCALENDAR