BEGIN:VCALENDAR
VERSION:2.0
PRODID:-//STRAWANZERIN - ECPv4.9.5//NONSGML v1.0//EN
CALSCALE:GREGORIAN
METHOD:PUBLISH
X-WR-CALNAME:STRAWANZERIN
X-ORIGINAL-URL:https://www.strawanzerin.at
X-WR-CALDESC:Veranstaltungen im STRAWANZERIN
BEGIN:VTIMEZONE
TZID:"Europe/Helsinki"
BEGIN:DAYLIGHT
TZOFFSETFROM:+0200
TZOFFSETTO:+0300
TZNAME:EEST
DTSTART:20160327T010000
END:DAYLIGHT
BEGIN:STANDARD
TZOFFSETFROM:+0300
TZOFFSETTO:+0200
TZNAME:EET
DTSTART:20161030T010000
END:STANDARD
END:VTIMEZONE
BEGIN:VEVENT
DTSTART;TZID="Europe/Helsinki":20160903T193000
DTEND;TZID="Europe/Helsinki":20160903T210000
DTSTAMP:20260420T210338
CREATED:20160722T221121Z
LAST-MODIFIED:20160725T091435Z
UID:31981-1472931000-1472936400@www.strawanzerin.at
SUMMARY:FAIRCLOUD Konzert
DESCRIPTION:der nimbus des FAIRCLOUD-sounds ist eine legierung von hackbrettklängen\, wie man sie so noch nie gehört hat\, akustischen gitarren und percussion. die musikalische bandbreite reicht von folk\, world\, jazz\, blues\, klassik über minimal. der grundton von FAIRCLOUD ist im lyrisch-kontemplativen sektor der musik angesiedelt. alle kompositionen stammen aus eigener feder.\nFAIRCLOUD sind MARESA KAUFMANN / austrian dulcimer (hackbrett)\,                              MANFRED MAKRA / westerngitarre\, ROMAN KAUFMANN / percussion\, WOLFGANG AULY / Djembé \n
URL:https://www.strawanzerin.at/termin/faircloud-konzert/
CATEGORIES:Deutsch,freie Spende,Musik,Sonstiges,Wien
ATTACH;FMTTYPE=image/jpeg:https://www.strawanzerin.at/wp-content/uploads/2016/07/faircloud_klein.jpg
END:VEVENT
END:VCALENDAR