BEGIN:VCALENDAR
VERSION:2.0
PRODID:-//STRAWANZERIN - ECPv4.9.5//NONSGML v1.0//EN
CALSCALE:GREGORIAN
METHOD:PUBLISH
X-WR-CALNAME:STRAWANZERIN
X-ORIGINAL-URL:https://www.strawanzerin.at
X-WR-CALDESC:Veranstaltungen im STRAWANZERIN
BEGIN:VTIMEZONE
TZID:"Europe/Vienna"
BEGIN:DAYLIGHT
TZOFFSETFROM:+0100
TZOFFSETTO:+0200
TZNAME:CEST
DTSTART:20210328T010000
END:DAYLIGHT
BEGIN:STANDARD
TZOFFSETFROM:+0200
TZOFFSETTO:+0100
TZNAME:CET
DTSTART:20211031T010000
END:STANDARD
END:VTIMEZONE
BEGIN:VEVENT
DTSTART;TZID="Europe/Vienna":20210529T190000
DTEND;TZID="Europe/Vienna":20210529T210000
DTSTAMP:20260421T001915
CREATED:20210422T090521Z
LAST-MODIFIED:20210428T130407Z
UID:76878-1622314800-1622322000@www.strawanzerin.at
SUMMARY:fast ned zum dablosn - Das Picksüße Hölzl
DESCRIPTION:Von wegen »fast ned zum dablosn«\, Reinhard Uhl wird uns zeigen wie das geht und sein Picksüßes Hölzl wieder ins verdiente Rampenlicht stellen\, zumal es in den letzten Jahrzehnten – zugunsten eines ausgewogeneren Schrammelklanges – eher im Schatten der Knopfharmonika stand. Verständlich\, aber auch schade. Mischwerk gönnt sich beides und noch ein bisserl mehr: ein Hölzl\, ein Knöpferl\, eine Geige und eine Kontragitarre. Und erwarten Sie kein klassisches Schrammelkonzert\, sondern allerhand bewusstseinserweiternder Experimente: Das Picksüße 2.0\, wenn man so will\, auf der schönen neuen Kulturbühne „Usus am Wasser“ direkt an der Donau. \nMischwerk \n
URL:https://www.strawanzerin.at/termin/fast-ned-zum-dablosn-das-picksuesse-hoelzl/
LOCATION:Usus am Wasser\, 1210\, An der Neuen Donau 1\, Wien\, Wien\, 1210\, Österreich
CATEGORIES:Kunst/Kultur,Musik,Wien
ATTACH;FMTTYPE=image/jpeg:https://www.strawanzerin.at/wp-content/uploads/2021/04/2905_Fast-ned-zum-dablosn_c_Herbert-Zotti.jpg
ORGANIZER;CN="wean%20hean":MAILTO:weanhean@wvlw.at
END:VEVENT
END:VCALENDAR