BEGIN:VCALENDAR
VERSION:2.0
PRODID:-//STRAWANZERIN - ECPv4.9.5//NONSGML v1.0//EN
CALSCALE:GREGORIAN
METHOD:PUBLISH
X-WR-CALNAME:STRAWANZERIN
X-ORIGINAL-URL:https://www.strawanzerin.at
X-WR-CALDESC:Veranstaltungen im STRAWANZERIN
BEGIN:VTIMEZONE
TZID:"Europe/Helsinki"
BEGIN:DAYLIGHT
TZOFFSETFROM:+0200
TZOFFSETTO:+0300
TZNAME:EEST
DTSTART:20160327T010000
END:DAYLIGHT
BEGIN:STANDARD
TZOFFSETFROM:+0300
TZOFFSETTO:+0200
TZNAME:EET
DTSTART:20161030T010000
END:STANDARD
END:VTIMEZONE
BEGIN:VEVENT
DTSTART;TZID="Europe/Helsinki":20161218T140000
DTEND;TZID="Europe/Helsinki":20161218T160000
DTSTAMP:20260421T004233
CREATED:20161121T173527Z
LAST-MODIFIED:20161125T112847Z
UID:37017-1482069600-1482076800@www.strawanzerin.at
SUMMARY:Favorhythm Gospel Singers präsentieren große Weihnachtsshow für die ganze Familie
DESCRIPTION:Ihre Erdung ist urwienerisch\, ihr Klang himmlisch! Nach zwei erfolgreichen Studioalben erschien zuletzt die neue CD »Live in Vienna«. Am 4. Adventsonntag stimmen die Favorhythm Gospel Singers im Wiener Orpheum auf das schönste Fest des Jahres ein. Bei der Weihnachtsshow um 14 Uhr freuen sich besonders Familien mit Kindern auf Hits\, wie »Rudolph\, the Red-Nosed Reindeer«\, »Santa Claus Is Comin’ to Town« und »Oh Happy Day«! \nFoto/© Favorhythm Gospel Singers \n
URL:https://www.strawanzerin.at/termin/favorhythm-gospel-singers-praesentieren-grosse-weihnachtsshow-fuer-die-ganze-familie/
LOCATION:Orpheum Wien\, Steigenteschgasse 94 b\, Wien\, Wien\, 1220\, Österreich
CATEGORIES:ab 7,Deutsch,Musik,Wien
ATTACH;FMTTYPE=image/jpeg:https://www.strawanzerin.at/wp-content/uploads/2016/11/GospelSingers_3.jpeg
GEO:48.2431856;16.4474101
X-APPLE-STRUCTURED-LOCATION;VALUE=URI;X-ADDRESS=Orpheum Wien Steigenteschgasse 94 b Wien Wien 1220 Österreich;X-APPLE-RADIUS=500;X-TITLE=Steigenteschgasse 94 b:geo:16.4474101,48.2431856
END:VEVENT
END:VCALENDAR