BEGIN:VCALENDAR
VERSION:2.0
PRODID:-//STRAWANZERIN - ECPv4.9.5//NONSGML v1.0//EN
CALSCALE:GREGORIAN
METHOD:PUBLISH
X-WR-CALNAME:STRAWANZERIN
X-ORIGINAL-URL:https://www.strawanzerin.at
X-WR-CALDESC:Veranstaltungen im STRAWANZERIN
BEGIN:VTIMEZONE
TZID:"Europe/Helsinki"
BEGIN:DAYLIGHT
TZOFFSETFROM:+0200
TZOFFSETTO:+0300
TZNAME:EEST
DTSTART:20160327T010000
END:DAYLIGHT
BEGIN:STANDARD
TZOFFSETFROM:+0300
TZOFFSETTO:+0200
TZNAME:EET
DTSTART:20161030T010000
END:STANDARD
END:VTIMEZONE
BEGIN:VEVENT
DTSTART;TZID="Europe/Helsinki":20160202T190000
DTEND;TZID="Europe/Helsinki":20160202T213000
DTSTAMP:20260421T173138
CREATED:20160122T100144Z
LAST-MODIFIED:20160122T125135Z
UID:23832-1454439600-1454448600@www.strawanzerin.at
SUMMARY:Feder im Café - Kreativer Schreibworkshop
DESCRIPTION:Das Café in der Währinger Straße\, das „so teuer aussieht“\, wird vom Obmann des Klubs der Wiener Kaffeehausbesitzer geführt\, der auch den Wiener Kaffeesiederball organisiert. Es ist ein glänzendes Juwel der Kaffeehauskultur in Wien. Doch was bedeutet es\, ein solches Kaffeehaus zu führen? Welche Geschichten verbergen sich im Souterrain? Gemeinsam lassen wir unsere Fantasie spielen und bringen sie zu Papier.\nBarbara Rieger gibt Hintergrundinformationen und Schreibimpulse\, die zum lustvollen und spielerischen Verfassen eigener Text anregen. Die Texte können anschließend – müssen aber nicht – in der Gruppe vorgelesen werden. \nEs gibt keine Themaverfehlung und es sind keinerlei Vorkenntnisse notwendig. Der Spaß am Schreiben und an der Kaffeehauskultur steht im Vordergrund.\nInfos\, Preiskategorien und Anmeldung unter feder-im-cafe@entropy.at \n
URL:https://www.strawanzerin.at/termin/feder-im-cafe-kreativer-schreibworkshop-2/
LOCATION:Café Weimar\, Währinger Straße 68\, 1090 Wien\, Wien\, 1090\, Österreich
CATEGORIES:ab 7,Deutsch,Kunst/Kultur,Wien,Workshop
ATTACH;FMTTYPE=:
ORGANIZER;CN="Feder%20im%20Caf%C3%A9":MAILTO:feder-im-cafe@entropy.at
GEO:48.2235032;16.3515732
X-APPLE-STRUCTURED-LOCATION;VALUE=URI;X-ADDRESS=Café Weimar Währinger Straße 68 1090 Wien Wien 1090 Österreich;X-APPLE-RADIUS=500;X-TITLE=Währinger Straße 68:geo:16.3515732,48.2235032
END:VEVENT
END:VCALENDAR