BEGIN:VCALENDAR
VERSION:2.0
PRODID:-//STRAWANZERIN - ECPv4.9.5//NONSGML v1.0//EN
CALSCALE:GREGORIAN
METHOD:PUBLISH
X-WR-CALNAME:STRAWANZERIN
X-ORIGINAL-URL:https://www.strawanzerin.at
X-WR-CALDESC:Veranstaltungen im STRAWANZERIN
BEGIN:VTIMEZONE
TZID:"Europe/Helsinki"
BEGIN:DAYLIGHT
TZOFFSETFROM:+0200
TZOFFSETTO:+0300
TZNAME:EEST
DTSTART:20150329T010000
END:DAYLIGHT
BEGIN:STANDARD
TZOFFSETFROM:+0300
TZOFFSETTO:+0200
TZNAME:EET
DTSTART:20151025T010000
END:STANDARD
END:VTIMEZONE
BEGIN:VEVENT
DTSTART;TZID="Europe/Helsinki":20150223T170000
DTEND;TZID="Europe/Helsinki":20150223T193000
DTSTAMP:20260420T151949
CREATED:20150207T154335Z
LAST-MODIFIED:20150213T154846Z
UID:11152-1424710800-1424719800@www.strawanzerin.at
SUMMARY:Feder im Café - Schreibworkshops mit Barbara Rieger und Michael Giongo
DESCRIPTION:“Das Schicksal mischt die Karten\, wir spielen.” Dieser Satz von Arthur Schopenhauer ist das Motto des hellen und freundlichen Café Schopenhauer\, einem beliebten Treffpunkt von Tarock- Bridge- und SchachspielerInnen im 18. Bezirk. Wir wollen bei diesem Workshop den Satz auf das Schreiben anwenden und uns zu Texten inspirieren lassen\, bei denen der Zufall immer wieder zu Hilfe kommt. \nHauptmenü\nZum Inhalt wechseln \n    Termine\n    Workshops\n    Konzept & Preise\n    Texte\n    Über uns\n    Links & Tipps \nJedes Café – vom traditionellen Wiener Kaffeehaus über das Vorstadtcafé bis hin zum Café-Beisl – hat seine einzigartige Atmosphäre\, die Sie in unseren Workshops in einer Kleingruppe schreibend erleben. Die Themen der Workshops sind auf die einzelnen Cafés zugeschnitten und beziehen deren Geschichte und die unmittelbare Umgebung ein. Wir geben Ihnen Hintergrundinformationen und Schreibimpulse\, die Sie zum lustvollen Verfassen eigener Texte inspirieren. Es gibt keine Themaverfehlung. Die Texte können anschließend – müssen aber nicht – in der Gruppe vorgelesen werden. Keine Vorkenntnisse nötig! \n
URL:https://www.strawanzerin.at/termin/feder-im-cafe-schreibworkshops-mit-barbara-rieger-und-michael-giongo-16/
CATEGORIES:ab 7,Deutsch,Kunst/Kultur,Wien,Workshop
ORGANIZER;CN="Feder%20im%20Caf%C3%A9":MAILTO:feder-im-cafe@entropy.at
END:VEVENT
END:VCALENDAR