BEGIN:VCALENDAR
VERSION:2.0
PRODID:-//STRAWANZERIN - ECPv4.9.5//NONSGML v1.0//EN
CALSCALE:GREGORIAN
METHOD:PUBLISH
X-WR-CALNAME:STRAWANZERIN
X-ORIGINAL-URL:https://www.strawanzerin.at
X-WR-CALDESC:Veranstaltungen im STRAWANZERIN
BEGIN:VTIMEZONE
TZID:"Europe/Helsinki"
BEGIN:DAYLIGHT
TZOFFSETFROM:+0200
TZOFFSETTO:+0300
TZNAME:EEST
DTSTART:20150329T010000
END:DAYLIGHT
BEGIN:STANDARD
TZOFFSETFROM:+0300
TZOFFSETTO:+0200
TZNAME:EET
DTSTART:20151025T010000
END:STANDARD
END:VTIMEZONE
BEGIN:VEVENT
DTSTART;TZID="Europe/Helsinki":20150113T190000
DTEND;TZID="Europe/Helsinki":20150113T213000
DTSTAMP:20260420T083433
CREATED:20150101T161115Z
LAST-MODIFIED:20150108T122402Z
UID:9935-1421175600-1421184600@www.strawanzerin.at
SUMMARY:Feder im Café - Schreibworkshops mit Barbara Rieger und Michael Giongo
DESCRIPTION:Obwohl schon in der großbürgerlichen Ringstraßenzeit erbaut\, ist das hervorstechendste Merkmal des Café Prückel heute die originale Einrichtung aus den 1950er-Jahren. Vom zeitlosen Treiben zwischen Korbstühlen und Bambus-Stehlampen lassen wir uns zum Schreiben anregen.\nJedes Café – vom traditionellen Wiener Kaffeehaus über das Vorstadtcafé bis hin zum Café-Beisl – hat seine einzigartige Atmosphäre\, die Sie in unseren Workshops in einer Kleingruppe schreibend erleben. Die Themen der Workshops sind auf die einzelnen Cafés zugeschnitten und beziehen deren Geschichte und die unmittelbare Umgebung ein. Wir geben Ihnen Hintergrundinformationen und Schreibimpulse\, die Sie zum lustvollen Verfassen eigener Texte inspirieren. Es gibt keine Themaverfehlung. Die Texte können anschließend – müssen aber nicht – in der Gruppe vorgelesen werden. Keine Vorkenntnisse nötig! \n
URL:https://www.strawanzerin.at/termin/feder-im-cafe-schreibworkshops-mit-barbara-rieger-und-michael-giongo-7/
LOCATION:Café Prückel\, Stubenring 24\, Wien\, 1010\, Vereinigte Staaten
CATEGORIES:ab 7,Deutsch,Kunst/Kultur,Wien,Workshop
ORGANIZER;CN="Feder%20im%20Caf%C3%A9":MAILTO:feder-im-cafe@entropy.at
GEO:48.2076994;16.3805404
X-APPLE-STRUCTURED-LOCATION;VALUE=URI;X-ADDRESS=Café Prückel Stubenring 24 Wien 1010 Vereinigte Staaten;X-APPLE-RADIUS=500;X-TITLE=Stubenring 24:geo:16.3805404,48.2076994
END:VEVENT
END:VCALENDAR