BEGIN:VCALENDAR
VERSION:2.0
PRODID:-//STRAWANZERIN - ECPv4.9.5//NONSGML v1.0//EN
CALSCALE:GREGORIAN
METHOD:PUBLISH
X-WR-CALNAME:STRAWANZERIN
X-ORIGINAL-URL:https://www.strawanzerin.at
X-WR-CALDESC:Veranstaltungen im STRAWANZERIN
BEGIN:VTIMEZONE
TZID:"Europe/Helsinki"
BEGIN:DAYLIGHT
TZOFFSETFROM:+0200
TZOFFSETTO:+0300
TZNAME:EEST
DTSTART:20150329T010000
END:DAYLIGHT
BEGIN:STANDARD
TZOFFSETFROM:+0300
TZOFFSETTO:+0200
TZNAME:EET
DTSTART:20151025T010000
END:STANDARD
END:VTIMEZONE
BEGIN:VEVENT
DTSTART;TZID="Europe/Helsinki":20150116T180000
DTEND;TZID="Europe/Helsinki":20150116T203000
DTSTAMP:20260422T060451
CREATED:20150101T161443Z
LAST-MODIFIED:20150108T122409Z
UID:9938-1421431200-1421440200@www.strawanzerin.at
SUMMARY:Feder im Café - Schreibworkshops mit Barbara Rieger und Michael Giongo
DESCRIPTION:Wenn man durch die Glaswände des Café Oben auf den abendlichen Gürtel mit seinen Lichtern hinunterblickt\, kann man das Gefühl bekommen\, sich auf dem Dach einer Metropole zu befinden. Wir werden diese Atmosphäre in diesem Workshop zum Anlass nehmen\, uns schreibend mit den Themen Großstadt und Film auseinanderzusetzen.\nJedes Café – vom traditionellen Wiener Kaffeehaus über das Vorstadtcafé bis hin zum Café-Beisl – hat seine einzigartige Atmosphäre\, die Sie in unseren Workshops in einer Kleingruppe schreibend erleben. Die Themen der Workshops sind auf die einzelnen Cafés zugeschnitten und beziehen deren Geschichte und die unmittelbare Umgebung ein. Wir geben Ihnen Hintergrundinformationen und Schreibimpulse\, die Sie zum lustvollen Verfassen eigener Texte inspirieren. Es gibt keine Themaverfehlung. Die Texte können anschließend – müssen aber nicht – in der Gruppe vorgelesen werden. Keine Vorkenntnisse nötig! \n
URL:https://www.strawanzerin.at/termin/feder-im-cafe-schreibworkshops-mit-barbara-rieger-und-michael-giongo-8/
CATEGORIES:ab 7,Deutsch,Kunst/Kultur,Wien,Workshop
ORGANIZER;CN="Feder%20im%20Caf%C3%A9":MAILTO:feder-im-cafe@entropy.at
END:VEVENT
END:VCALENDAR