BEGIN:VCALENDAR
VERSION:2.0
PRODID:-//STRAWANZERIN - ECPv4.9.5//NONSGML v1.0//EN
CALSCALE:GREGORIAN
METHOD:PUBLISH
X-WR-CALNAME:STRAWANZERIN
X-ORIGINAL-URL:https://www.strawanzerin.at
X-WR-CALDESC:Veranstaltungen im STRAWANZERIN
BEGIN:VTIMEZONE
TZID:"Europe/Helsinki"
BEGIN:DAYLIGHT
TZOFFSETFROM:+0200
TZOFFSETTO:+0300
TZNAME:EEST
DTSTART:20140330T010000
END:DAYLIGHT
BEGIN:STANDARD
TZOFFSETFROM:+0300
TZOFFSETTO:+0200
TZNAME:EET
DTSTART:20141026T010000
END:STANDARD
END:VTIMEZONE
BEGIN:VEVENT
DTSTART;TZID="Europe/Helsinki":20141128T163000
DTEND;TZID="Europe/Helsinki":20141128T190000
DTSTAMP:20260422T074334
CREATED:20141028T200619Z
LAST-MODIFIED:20141029T144051Z
UID:8381-1417192200-1417201200@www.strawanzerin.at
SUMMARY:Feder im Café: Zwischen Tag und Traum
DESCRIPTION:Der Wille und das Unterbewusstsein\, Konflikt und Abwehr\, Protagonist und Gegenspieler – in der Psychoanalyse ist alles vorhanden\, was es zum Schreiben einer guten Geschichte braucht. In diesem Schreibworkshop werden wir lustbetont mit Begriffen aus Freuds Theorie-Kiste spielen. Und keine Angst: Es sind keine psychologischen Vorkenntnisse nötig\, und es wird auch niemand analysiert … \nJedes Café – vom traditionellen Wiener Kaffeehaus über das Vorstadtcafé bis hin zum Café-Beisl – hat seine einzigartige Atmosphäre\, die Sie in unseren Workshops schreibend entdecken können. In einer Kleingruppe von 2-5 TeilnehmerInnen geben Barbara Rieger und Michael Giongo Hintergrundinformationen und Schreibimpulse\, die Sie zum lustvollen Verfassen eigener Texte inspirieren. Es gibt keine Themaverfehlung! \n
URL:https://www.strawanzerin.at/termin/feder-im-cafe-zwischen-tag-und-traum-2/
CATEGORIES:ab 7,Deutsch,Kunst/Kultur,Wien,Workshop
ORGANIZER;CN="Feder%20im%20Caf%C3%A9":MAILTO:feder-im-cafe@entropy.at
END:VEVENT
END:VCALENDAR