BEGIN:VCALENDAR
VERSION:2.0
PRODID:-//STRAWANZERIN - ECPv4.9.5//NONSGML v1.0//EN
CALSCALE:GREGORIAN
METHOD:PUBLISH
X-WR-CALNAME:STRAWANZERIN
X-ORIGINAL-URL:https://www.strawanzerin.at
X-WR-CALDESC:Veranstaltungen im STRAWANZERIN
BEGIN:VTIMEZONE
TZID:"Europe/Paris"
BEGIN:DAYLIGHT
TZOFFSETFROM:+0100
TZOFFSETTO:+0200
TZNAME:CEST
DTSTART:20150329T010000
END:DAYLIGHT
BEGIN:STANDARD
TZOFFSETFROM:+0200
TZOFFSETTO:+0100
TZNAME:CET
DTSTART:20151025T010000
END:STANDARD
END:VTIMEZONE
BEGIN:VEVENT
DTSTART;TZID="Europe/Paris":20150418T150000
DTEND;TZID="Europe/Paris":20150418T150000
DTSTAMP:20260422T023244
CREATED:20150420T133605Z
LAST-MODIFIED:20150420T133628Z
UID:14072-1429369200-1429369200@www.strawanzerin.at
SUMMARY:Feine Figurenkunst – Susanna Andreini
DESCRIPTION:Eine neue Kreation von Susanna Andreini kommt im April zum ersten Mal auf die Bühne. „Ein Tag mit dir“ ist eine Komposition aus Figurentheater\, Musik und Gesang für Kinder von 5 bis 10 Jahre. Das Stück erzählt die Geschichte von drei Musikerinnen die versuchen eine „ernsthafte“ Theaterprobe auf die Beine zu stellen. Sie haben dabei aber nicht mit den Figurenkindern Elfe und Pat gerechnet. Uraufführung ist am 18. April 2015 um 15.00 Uhr im Kleinen Theater in Salzburg. \nWeitere Termine:  19. April sowie 5.\, 6. und 7. Mai 2015 \nwww.kleinestheater.at\nTel. 0662/872154 \n
URL:https://www.strawanzerin.at/termin/feine-figurenkunst-susanna-andreini/2015-04-18/
LOCATION:Kleines Theater\, Schallmooser Hauptstraße 50\, Salzburg\, 5020\, Österreich
CATEGORIES:Deutsch,Salzburg,Theater/Kabarett
ATTACH;FMTTYPE=image/jpeg:https://www.strawanzerin.at/wp-content/uploads/2015/04/ELfe-u-PAT-22-2.jpg
GEO:47.8072039;13.0608323
X-APPLE-STRUCTURED-LOCATION;VALUE=URI;X-ADDRESS=Kleines Theater Schallmooser Hauptstraße 50 Salzburg 5020 Österreich;X-APPLE-RADIUS=500;X-TITLE=Schallmooser Hauptstraße 50:geo:13.0608323,47.8072039
END:VEVENT
END:VCALENDAR