BEGIN:VCALENDAR
VERSION:2.0
PRODID:-//STRAWANZERIN - ECPv4.9.5//NONSGML v1.0//EN
CALSCALE:GREGORIAN
METHOD:PUBLISH
X-WR-CALNAME:STRAWANZERIN
X-ORIGINAL-URL:https://www.strawanzerin.at
X-WR-CALDESC:Veranstaltungen im STRAWANZERIN
BEGIN:VTIMEZONE
TZID:"Europe/Vienna"
BEGIN:DAYLIGHT
TZOFFSETFROM:+0100
TZOFFSETTO:+0200
TZNAME:CEST
DTSTART:20240331T010000
END:DAYLIGHT
BEGIN:STANDARD
TZOFFSETFROM:+0200
TZOFFSETTO:+0100
TZNAME:CET
DTSTART:20241027T010000
END:STANDARD
END:VTIMEZONE
BEGIN:VEVENT
DTSTART;TZID="Europe/Vienna":20240924T180000
DTEND;TZID="Europe/Vienna":20240924T180000
DTSTAMP:20260422T135649
CREATED:20240902T090040Z
LAST-MODIFIED:20240902T090040Z
UID:102875-1727200800-1727200800@www.strawanzerin.at
SUMMARY:Female Utopias
DESCRIPTION:Buchpräsentation und Diskussion \nIm 21. Jahrhunderts brauchen wir weiterhin feministische Utopien\, da sie radikale Alternativen zu ungerechten Gesellschaftsordnungen bieten. Dabei geht es um die Beseitigung von Ungleichheiten sowie auch um die Harmonisierung gesellschaftlicher und natürlicher Verhältnisse. Utopien siedeln sich an zwischen Eskapismus und konkreten Veränderungsbestrebungen\, auch queer-feministische; wie lassen sich diese mit globalen Revolutionen verknüpfen\, wenn Identitätsbekundungen und der Narzissmus der kleinen Unterschiede immer wichtiger werden? Anhand des Buches Female Utopias soll dies diskutiert werden. \nMit \nAlice Pechriggl\, Philosophin und Gruppenpsychoanalytikerin\, Universität Klagenfurt \nEvelyn Bernadette Mayr\, Autorin und Professorin\, Eggendorf bei Linz \nModeration: Andrea Strutzmann \nFemale Utopias; Daniela Banglmayr\, Susanne Baumann\, Sandra C. Hochholzer (Hg.)\, Female Utopias\, Linz / Wien: 2024 \nDie Versanstaltung ist für Frauen. \n
URL:https://www.strawanzerin.at/termin/female-utopias/
LOCATION:Frauenbildungsstätte Frauenhetz\, Untere Weißgerberstraße 41\, Wien\, Wien\, 1030\, Österreich
CATEGORIES:Deutsch,Feminismus,Gratis,Literatur,Soziale Kämpfe,Vortrag/Symposium,Wien
GEO:48.2084854;16.3946163
X-APPLE-STRUCTURED-LOCATION;VALUE=URI;X-ADDRESS=Frauenbildungsstätte Frauenhetz Untere Weißgerberstraße 41 Wien Wien 1030 Österreich;X-APPLE-RADIUS=500;X-TITLE=Untere Weißgerberstraße 41:geo:16.3946163,48.2084854
END:VEVENT
END:VCALENDAR