BEGIN:VCALENDAR
VERSION:2.0
PRODID:-//STRAWANZERIN - ECPv4.9.5//NONSGML v1.0//EN
CALSCALE:GREGORIAN
METHOD:PUBLISH
X-WR-CALNAME:STRAWANZERIN
X-ORIGINAL-URL:https://www.strawanzerin.at
X-WR-CALDESC:Veranstaltungen im STRAWANZERIN
BEGIN:VTIMEZONE
TZID:"Europe/Vienna"
BEGIN:DAYLIGHT
TZOFFSETFROM:+0100
TZOFFSETTO:+0200
TZNAME:CEST
DTSTART:20240331T010000
END:DAYLIGHT
BEGIN:STANDARD
TZOFFSETFROM:+0200
TZOFFSETTO:+0100
TZNAME:CET
DTSTART:20241027T010000
END:STANDARD
END:VTIMEZONE
BEGIN:VEVENT
DTSTART;TZID="Europe/Vienna":20241203T190000
DTEND;TZID="Europe/Vienna":20241203T190000
DTSTAMP:20260421T012204
CREATED:20240906T171606Z
LAST-MODIFIED:20240906T171606Z
UID:103096-1733252400-1733252400@www.strawanzerin.at
SUMMARY:feminismen diskutieren // K-Pop-Fanfiction als feministische Praxis
DESCRIPTION:Populär geworden durch den Star Trek-Hype der 60er-Jahre\, ist Fanfiction seither ein disruptives Medium\, welches den Originaltext re-interpretiert und transformiert. Fanfiction kann alles sein: von alternativen Handlungssträngen und Fortsetzungen\, gender-swap bis hin zu Charakterstudien. Für viele Fans ist sie ein großer Teil ihrer Fan-Identität und ein aktiver Beitrag zur Online-Fankultur. Wie bewegen sich queere Autor*innen von K-Pop-Fanfiction in diesem Raum? Welche Rolle spielt Empowerment in ihrer Fanpraxis? \nNadine Taferner\, Sozialwissenschaftler*in\, Genderforscher*in und K-Pop-Fan\, Wien / St. Veit an der Glan\nModeration: Sabine Prokop\, VfW\, Wien \nIn Kooperation mit dem Verband feministischer Wissenschafteri*nnen. \n
URL:https://www.strawanzerin.at/termin/feminismen-diskutieren-k-pop-fanfiction-als-feministische-praxis/
LOCATION:Depot – Kunst und Diskussion\, Breite Gasse 3\, Wien\, 1070\, Österreich
CATEGORIES:Deutsch,Feminismus,Gratis,Kunst/Kultur,Musik,Vortrag/Symposium,Wien
ATTACH;FMTTYPE=image/jpeg:https://www.strawanzerin.at/wp-content/uploads/2024/09/K1A7085_c_Logo_Bureau_Kies-26-scaled.jpg
ORGANIZER;CN="Depot%20-%20Kunst%20und%20Diskussion":MAILTO:depot@depot.or.at
END:VEVENT
END:VCALENDAR