BEGIN:VCALENDAR
VERSION:2.0
PRODID:-//STRAWANZERIN - ECPv4.9.5//NONSGML v1.0//EN
CALSCALE:GREGORIAN
METHOD:PUBLISH
X-WR-CALNAME:STRAWANZERIN
X-ORIGINAL-URL:https://www.strawanzerin.at
X-WR-CALDESC:Veranstaltungen im STRAWANZERIN
BEGIN:VTIMEZONE
TZID:"Europe/Vienna"
BEGIN:DAYLIGHT
TZOFFSETFROM:+0100
TZOFFSETTO:+0200
TZNAME:CEST
DTSTART:20240331T010000
END:DAYLIGHT
BEGIN:STANDARD
TZOFFSETFROM:+0200
TZOFFSETTO:+0100
TZNAME:CET
DTSTART:20241027T010000
END:STANDARD
END:VTIMEZONE
BEGIN:VEVENT
DTSTART;TZID="Europe/Vienna":20241111T190000
DTEND;TZID="Europe/Vienna":20241111T190000
DTSTAMP:20260422T021636
CREATED:20240906T172014Z
LAST-MODIFIED:20240906T172014Z
UID:103081-1731351600-1731351600@www.strawanzerin.at
SUMMARY:feminismen diskutieren // Leihmutterschaft – who bears?
DESCRIPTION:Leihmutterschaft ist in den meisten Staaten Europas verboten\, gleichzeitig ist Unfruchtbarkeit für immer mehr Menschen ein Problem. Die Dienste einer Leihmutter erscheinen vielen als die letzte Chance auf Familie. Aufgrund liberaler Gesetze konnte sich der postsowjetische Raum als eines der großen Zentren für Leihmutterschaft etablieren. Eine faire und auf Gleichberechtigung basierende Leihmutterschaftsbeziehung hat das Potenzial\, mehr reproduktive Gerechtigkeit herzustellen. Doch um das zu erreichen\, müssen globale Ungleichheitsstrukturen kritisch hinterfragt werden. \nDiana Köhler\, Sozialwissenschaftlerin\, Journalistin\, Wien\nModeration: Sabine Prokop\, VfW\, Wien \nIn Kooperation mit dem Verband feministischer Wissenschafteri*nnen. \n
URL:https://www.strawanzerin.at/termin/feminismen-diskutieren-leihmutterschaft-who-bears/
LOCATION:Depot – Kunst und Diskussion\, Breite Gasse 3\, Wien\, 1070\, Österreich
CATEGORIES:Deutsch,Feminismus,Gratis,Soziale Kämpfe,Vortrag/Symposium,Wien
ATTACH;FMTTYPE=image/jpeg:https://www.strawanzerin.at/wp-content/uploads/2024/09/K1A7085_c_Logo_Bureau_Kies-20-scaled.jpg
ORGANIZER;CN="Depot%20-%20Kunst%20und%20Diskussion":MAILTO:depot@depot.or.at
END:VEVENT
END:VCALENDAR