BEGIN:VCALENDAR
VERSION:2.0
PRODID:-//STRAWANZERIN - ECPv4.9.5//NONSGML v1.0//EN
CALSCALE:GREGORIAN
METHOD:PUBLISH
X-WR-CALNAME:STRAWANZERIN
X-ORIGINAL-URL:https://www.strawanzerin.at
X-WR-CALDESC:Veranstaltungen im STRAWANZERIN
BEGIN:VTIMEZONE
TZID:"Europe/Vienna"
BEGIN:DAYLIGHT
TZOFFSETFROM:+0100
TZOFFSETTO:+0200
TZNAME:CEST
DTSTART:20240331T010000
END:DAYLIGHT
BEGIN:STANDARD
TZOFFSETFROM:+0200
TZOFFSETTO:+0100
TZNAME:CET
DTSTART:20241027T010000
END:STANDARD
END:VTIMEZONE
BEGIN:VEVENT
DTSTART;TZID="Europe/Vienna":20241015T180000
DTEND;TZID="Europe/Vienna":20241015T200000
DTSTAMP:20260420T220709
CREATED:20241004T165446Z
LAST-MODIFIED:20241004T165446Z
UID:103913-1729015200-1729022400@www.strawanzerin.at
SUMMARY:Feministische Außenpolitik im Reality Check: Perspektiven aus Afghanistan\, Iran und dem Nahen Osten
DESCRIPTION:Bei der Veranstaltung diskutieren wir die Möglichkeiten und Realitäten feministischer Außenpolitik im Hinblick auf die Länder des Mittleren und Nahen Ostens. Wie kann feministische Außenpolitik effektiv gestaltet und umgesetzt werden\, um sicherzustellen\, dass diese Frauen und marginalisierte Gruppen in Konfliktregionen wirklich stärkt und nicht nur der politischen Rhetorik dient\, oder von bestehenden Machtstrukturen vereinnahmt wird? Welche Erwartungen haben iranische\, arabische oder afghanische Aktivist*innen konkret an eine feministische Außenpolitik des globalen Nordens? Wie können feministische Akteur*innen in ihren Kämpfen gegen Gewalt und Unterdrückung unterstützt werden? Was sind die Kritikpunkte\, aber auch die Chancen für eine feministische Außenpolitik im Kontext der multiplen Krisen und kriegerischen Konflikte? \n
URL:https://www.strawanzerin.at/termin/feministische-aussenpolitik-im-reality-check-perspektiven-aus-afghanistan-iran-und-dem-nahen-osten/
LOCATION:1040\, Diplomatische Akademie\, Favoritenstraße 15a\, Wien\, 1040\, Österreich
CATEGORIES:Feminismus,Transnational,Vortrag/Symposium,Wien
ATTACH;FMTTYPE=image/jpeg:https://www.strawanzerin.at/wp-content/uploads/2024/10/Vuk-Valcic-Alamy-Stock-Photo-scaled.jpg
END:VEVENT
END:VCALENDAR