BEGIN:VCALENDAR
VERSION:2.0
PRODID:-//STRAWANZERIN - ECPv4.9.5//NONSGML v1.0//EN
CALSCALE:GREGORIAN
METHOD:PUBLISH
X-WR-CALNAME:STRAWANZERIN
X-ORIGINAL-URL:https://www.strawanzerin.at
X-WR-CALDESC:Veranstaltungen im STRAWANZERIN
BEGIN:VTIMEZONE
TZID:"Europe/Vienna"
BEGIN:DAYLIGHT
TZOFFSETFROM:+0100
TZOFFSETTO:+0200
TZNAME:CEST
DTSTART:20220327T010000
END:DAYLIGHT
BEGIN:STANDARD
TZOFFSETFROM:+0200
TZOFFSETTO:+0100
TZNAME:CET
DTSTART:20221030T010000
END:STANDARD
END:VTIMEZONE
BEGIN:VEVENT
DTSTART;TZID="Europe/Vienna":20220601T183000
DTEND;TZID="Europe/Vienna":20220601T210000
DTSTAMP:20260420T202709
CREATED:20220525T080240Z
LAST-MODIFIED:20220530T110416Z
UID:85082-1654108200-1654117200@www.strawanzerin.at
SUMMARY:Feministische Frauenbildung in Wien seit den 1970er Jahren
DESCRIPTION:Präsentation und Diskussion am Mittwoch\, 01. Juni 2022\, um 18:30 \nFrauenbildung war und ist ein wesentlicher Teil der Frauenbewegungen und wurde in Österreich bisher weder historisch noch systematisch erforscht. In einer ersten Erfassung\, die auch auf Interviews mit Protagonistinnen der letzten Jahrzehnte basiert\, wurden die vielfältigen feministischen Frauenbildungsinitiativen in einem Booklet\, erarbeitet und im Rahmen der Frauenhetz\, zusammengestellt. Das Projekt wird präsentiert und feministische Bildungspositionen können diskutiert werden. Es geht um einen Austausch zwischen den am Prozess Beteiligten\, den anwesenden Protagonistinnen und dem Publikum zu einer bildungs- und gesellschaftspolitisch so wichtigen Geschichte und Gegenwart. \nMit Bettina Dausien\, Birge Krondorfer\, Andrea Strutzmann\, und Margit Appel\, Rosa-Emilia Cortez-Arravena\, Elisabeth Eckhart\, Waltraud Fürnwein\, Eva Geber (tbc)\, Elisabeth Harrasser\, Maria Keplinger\, Ursula Kubes-Hofmann\, Karin Liebhart\, Ilse Rollet (tbc)\, Lisa Steininger\, Brigitte Theißl. \nOrt: Frauenbildungsstätte Frauenhetz\, Untere Weißgerberstraße 41\, 1030 Wien \nMit Getränken und Snacks \nDiese Veranstaltung ist nur für Frauen. \n
URL:https://www.strawanzerin.at/termin/feministische-frauenbildung-in-wien-seit-den-1970er-jahren/
LOCATION:Frauenbildungsstätte Frauenhetz\, Untere Weißgerberstraße 41\, Wien\, Wien\, 1030\, Österreich
CATEGORIES:Bildung,Feminismus,Literatur,Vortrag/Symposium,Wien
GEO:48.2084854;16.3946163
X-APPLE-STRUCTURED-LOCATION;VALUE=URI;X-ADDRESS=Frauenbildungsstätte Frauenhetz Untere Weißgerberstraße 41 Wien Wien 1030 Österreich;X-APPLE-RADIUS=500;X-TITLE=Untere Weißgerberstraße 41:geo:16.3946163,48.2084854
END:VEVENT
END:VCALENDAR