BEGIN:VCALENDAR
VERSION:2.0
PRODID:-//STRAWANZERIN - ECPv4.9.5//NONSGML v1.0//EN
CALSCALE:GREGORIAN
METHOD:PUBLISH
X-WR-CALNAME:STRAWANZERIN
X-ORIGINAL-URL:https://www.strawanzerin.at
X-WR-CALDESC:Veranstaltungen im STRAWANZERIN
BEGIN:VTIMEZONE
TZID:"Europe/Vienna"
BEGIN:DAYLIGHT
TZOFFSETFROM:+0100
TZOFFSETTO:+0200
TZNAME:CEST
DTSTART:20220327T010000
END:DAYLIGHT
BEGIN:STANDARD
TZOFFSETFROM:+0200
TZOFFSETTO:+0100
TZNAME:CET
DTSTART:20221030T010000
END:STANDARD
END:VTIMEZONE
BEGIN:VEVENT
DTSTART;TZID="Europe/Vienna":20221128T180000
DTEND;TZID="Europe/Vienna":20221128T200000
DTSTAMP:20260421T191701
CREATED:20221031T113023Z
LAST-MODIFIED:20221102T154849Z
UID:87551-1669658400-1669665600@www.strawanzerin.at
SUMMARY:Feministische Konzepte von Mutterschaft
DESCRIPTION:Wird Mutterschaft in feministischen Theorien und gendertheoretischen Zugängen als Einschränkung von Emanzipationsbegehren thematisiert\, so stellt sich die Frage nach emanzipatorischen\, feministischen Leitbildern und Praxen von Mutterschaft. Um dieser Frage nachzugehen\, wurden narrativen Interviews mit feministischen Müttern* geführt und Konzepte feministischen Mutterseins entwickelt. Diese werden im Rahmen des Vortrags vorgestellt und in Bezug zu feministischen und gendertheoretischen Ansätzen gesetzt. Dabei zeichnen sich auch Strategien im Umgang mit der Institution Mutterschaft.  \nMit Samira Baig\, Soziologin\, Sozialwissenschafterin\, Supervisorin und Coach\, Wien \nModeration: Sabine Prokop (VfW) \nOrt: Frauenhetz\, 1030 Wien und Online auf Zoom \nIn Kooperation mit feminismen diskutieren/www.vfw.or.at \nAnmeldung bis 28. November 2022\, 10:00\, an pr@frauenhetz.at  \nDie Veranstaltung ist offen für alle. \n
URL:https://www.strawanzerin.at/termin/feministische-konzepte-von-mutterschaft/
LOCATION:Frauenbildungsstätte Frauenhetz\, Untere Weißgerberstraße 41\, Wien\, Wien\, 1030\, Österreich
CATEGORIES:Bildung,Feminismus,Gratis,Vortrag/Symposium,Wien
ATTACH;FMTTYPE=image/png:https://www.strawanzerin.at/wp-content/uploads/2022/10/Feministische-Konzepte-von-Mutterschaft-2.png
GEO:48.2084854;16.3946163
X-APPLE-STRUCTURED-LOCATION;VALUE=URI;X-ADDRESS=Frauenbildungsstätte Frauenhetz Untere Weißgerberstraße 41 Wien Wien 1030 Österreich;X-APPLE-RADIUS=500;X-TITLE=Untere Weißgerberstraße 41:geo:16.3946163,48.2084854
END:VEVENT
END:VCALENDAR