BEGIN:VCALENDAR
VERSION:2.0
PRODID:-//STRAWANZERIN - ECPv4.9.5//NONSGML v1.0//EN
CALSCALE:GREGORIAN
METHOD:PUBLISH
X-WR-CALNAME:STRAWANZERIN
X-ORIGINAL-URL:https://www.strawanzerin.at
X-WR-CALDESC:Veranstaltungen im STRAWANZERIN
BEGIN:VTIMEZONE
TZID:"Europe/Vienna"
BEGIN:DAYLIGHT
TZOFFSETFROM:+0100
TZOFFSETTO:+0200
TZNAME:CEST
DTSTART:20220327T010000
END:DAYLIGHT
BEGIN:STANDARD
TZOFFSETFROM:+0200
TZOFFSETTO:+0100
TZNAME:CET
DTSTART:20221030T010000
END:STANDARD
END:VTIMEZONE
BEGIN:VEVENT
DTSTART;TZID="Europe/Vienna":20221102T160000
DTEND;TZID="Europe/Vienna":20221102T180000
DTSTAMP:20260420T212632
CREATED:20221102T152650Z
LAST-MODIFIED:20221102T152650Z
UID:87585-1667404800-1667412000@www.strawanzerin.at
SUMMARY:Feministischer Lesekreis
DESCRIPTION:Wie viele Autorinnen kannst du auf Anhieb nennen? Der Schulunterricht\, Rezensionszeitschriften und die Liste der Literaturnobelpreisträger_innen etc. suggerieren uns\, Frauen hätten kaum bzw. lediglich qualitativ minderwertige Texte verfasst und enthalten uns vor\, dass die ersten überlieferten Werke von Frauen bereits 4000 Jahre alt sind\, dass schon im Mittelalter erste feministische Schriften verfasst wurden und dass schreibende Frauen immer schon von gesellschaftskonformen Rollenbildern abgewichen sind. \nIn diesem Sinne haben wir einen feministischen Lesekreis ins Leben gerufen\, der sich an jedem ersten Mittwoch im Monat von 16:00 bis 18:00 via Jitsi-Meet trifft. Komm vorbei\, um mit uns über die Werke von Autorinnen aus aller Welt zu diskutieren! \n
URL:https://www.strawanzerin.at/termin/feministischer-lesekreis/2022-11-02/
LOCATION:online
ATTACH;FMTTYPE=image/jpeg:https://www.strawanzerin.at/wp-content/uploads/2022/11/Logo-5.jpg
ORGANIZER;CN="IGfemAT":MAILTO:yes@igfem.at
END:VEVENT
END:VCALENDAR