BEGIN:VCALENDAR
VERSION:2.0
PRODID:-//STRAWANZERIN - ECPv4.9.5//NONSGML v1.0//EN
CALSCALE:GREGORIAN
METHOD:PUBLISH
X-WR-CALNAME:STRAWANZERIN
X-ORIGINAL-URL:https://www.strawanzerin.at
X-WR-CALDESC:Veranstaltungen im STRAWANZERIN
BEGIN:VTIMEZONE
TZID:"Europe/Vienna"
BEGIN:DAYLIGHT
TZOFFSETFROM:+0100
TZOFFSETTO:+0200
TZNAME:CEST
DTSTART:20180325T010000
END:DAYLIGHT
BEGIN:STANDARD
TZOFFSETFROM:+0200
TZOFFSETTO:+0100
TZNAME:CET
DTSTART:20181028T010000
END:STANDARD
END:VTIMEZONE
BEGIN:VEVENT
DTSTART;TZID="Europe/Vienna":20180626T190000
DTEND;TZID="Europe/Vienna":20180626T210000
DTSTAMP:20260420T234029
CREATED:20180605T124739Z
LAST-MODIFIED:20180611T110446Z
UID:56754-1530039600-1530046800@www.strawanzerin.at
SUMMARY:Film Audre Lorde – Die Berliner Jahre 1984-1992
DESCRIPTION:Filmreihe im Rahmen unseres Schwerpunktes Geschichte und feministisches Geschichtsbewusstsein\n“Dieser Film ist ein Geschenk an die Geschichte (…)!” (Kitty Cone)\nAuch zwanzig Jahre nach ihrem Tod ist der Einfluss der Schriftstellerin und Aktivistin Audre Lorde auf die afroamerikanischen\, feministischen und queeren Bewegungen außerordentlich lebendig.\nEintritt frei\, Spenden willkommen\nEine Veranstaltung für Frauen \n
URL:https://www.strawanzerin.at/termin/film-audre-lorde-die-berliner-jahre-1984-1992/
LOCATION:Frauenbildungsstätte Frauenhetz\, Untere Weißgerberstraße 41\, Wien\, Wien\, 1030\, Österreich
CATEGORIES:Film
GEO:48.2084854;16.3946163
X-APPLE-STRUCTURED-LOCATION;VALUE=URI;X-ADDRESS=Frauenbildungsstätte Frauenhetz Untere Weißgerberstraße 41 Wien Wien 1030 Österreich;X-APPLE-RADIUS=500;X-TITLE=Untere Weißgerberstraße 41:geo:16.3946163,48.2084854
END:VEVENT
END:VCALENDAR