BEGIN:VCALENDAR
VERSION:2.0
PRODID:-//STRAWANZERIN - ECPv4.9.5//NONSGML v1.0//EN
CALSCALE:GREGORIAN
METHOD:PUBLISH
X-WR-CALNAME:STRAWANZERIN
X-ORIGINAL-URL:https://www.strawanzerin.at
X-WR-CALDESC:Veranstaltungen im STRAWANZERIN
BEGIN:VTIMEZONE
TZID:"Europe/Vienna"
BEGIN:DAYLIGHT
TZOFFSETFROM:+0100
TZOFFSETTO:+0200
TZNAME:CEST
DTSTART:20250330T010000
END:DAYLIGHT
BEGIN:STANDARD
TZOFFSETFROM:+0200
TZOFFSETTO:+0100
TZNAME:CET
DTSTART:20251026T010000
END:STANDARD
END:VTIMEZONE
BEGIN:VEVENT
DTSTART;TZID="Europe/Vienna":20250602T190000
DTEND;TZID="Europe/Vienna":20250602T210000
DTSTAMP:20260420T164323
CREATED:20250528T092506Z
LAST-MODIFIED:20250528T092506Z
UID:108066-1748890800-1748898000@www.strawanzerin.at
SUMMARY:Filmabend „Sexarbeit und Beziehung“
DESCRIPTION:Die AG Feministischer Streik Wien lädt anlässlich des International Whores /Sexworkers Day zum Filmabend „Sexarbeit und Beziehung“ mit anschließender Diskussion mit Celeste (Lefö) und Berni (red edition). \nAm 2. Juni jährt sich die Besetzung einer Kirche durch Sexarbeiter*innen im französischen Lyon zum 50. Mal. Die Sexarbeiter*innen protestierten mit ihrem Streik gegen polizeitliche Repression\, Stigmatisierung und ausbeuterische Lebens- und Arbeitsverhältnisse. \nDer Film macht die Auswirkungen gesellschaftlicher Stigmatisierung auf die intimen Beziehungen von Sexarbeitenden sichtbar und betont die Selbstbestimmung von Sexarbeiter*innen. Wer nicht anerkennt\, dass patriarchale Gewalt nicht nur in der Sexarbeit\, sondern auch in der bürgerlichen Kleinfamilie und in unseren eigenen intimen Beziehungen stattfindet\, reproduziert die bürgerliche Spaltung von Frauen in „Heilige“ und „Hure“.  \nGegen die Ausbeutung von Frauen\, trans\, inter\, nichtbinären und agender  Personen\, Queers\, Migrant*innen\, rassifizierten und illegalisierten Personen in allen reproduktiven Bereichen\, sowohl in der Pflege\, im Bett oder im Haushalt! \nGegen gesellschaftliche und staatliche „Lösungen“\, die zu Stigmatisierung\, Repression und Abschiebungen führen. Für eine Entkriminalisierung von Sexarbeit und ihre Anerkennung als Arbeit.\nFür einen feministsiche Streik! \n
URL:https://www.strawanzerin.at/termin/filmabend-sexarbeit-und-beziehung/
LOCATION:Kollektiv Kaorle | Ottakringer Straße 201 | 1160 Wien\, Ottakringer Straße 201\, Wien\, 1160\, Österreich
ATTACH;FMTTYPE=image/jpeg:https://www.strawanzerin.at/wp-content/uploads/2025/05/image.jpg
END:VEVENT
END:VCALENDAR