BEGIN:VCALENDAR
VERSION:2.0
PRODID:-//STRAWANZERIN - ECPv4.9.5//NONSGML v1.0//EN
CALSCALE:GREGORIAN
METHOD:PUBLISH
X-WR-CALNAME:STRAWANZERIN
X-ORIGINAL-URL:https://www.strawanzerin.at
X-WR-CALDESC:Veranstaltungen im STRAWANZERIN
BEGIN:VTIMEZONE
TZID:"Europe/Helsinki"
BEGIN:DAYLIGHT
TZOFFSETFROM:+0200
TZOFFSETTO:+0300
TZNAME:EEST
DTSTART:20150329T010000
END:DAYLIGHT
BEGIN:STANDARD
TZOFFSETFROM:+0300
TZOFFSETTO:+0200
TZNAME:EET
DTSTART:20151025T010000
END:STANDARD
END:VTIMEZONE
BEGIN:VEVENT
DTSTART;TZID="Europe/Helsinki":20150220T200000
DTEND;TZID="Europe/Helsinki":20150220T230000
DTSTAMP:20260423T160333
CREATED:20150128T202510Z
LAST-MODIFIED:20150213T154103Z
UID:11099-1424462400-1424473200@www.strawanzerin.at
SUMMARY:Finissage „100 Jahre Café Industrie!“
DESCRIPTION:Letzter Tag der Fotoausstellung „100 Jahre Industrie“ von Manfred Daknipsi. Noch einmal habt ihr die Gelegenheit die fantastischen Fotografien des Wiener Profi- und Eventfotografen zu sehen\, zu kaufen und sie euch vom Künstler selbst signieren zu lassen! Musikalisch wird der Abend – zum ersten Mal im Industrie – von der Wiener Rockband Freak Resort gestaltet!  \n
URL:https://www.strawanzerin.at/termin/finissage-100-jahre-cafe-industrie/
LOCATION:Traditionscafé Industrie\, Margaretengürtel 12\, Wien\, Wien\, 1050\, Österreich
CATEGORIES:Ausstellung,Deutsch,freie Spende,Kunst/Kultur,Wien
ATTACH;FMTTYPE=image/jpeg:https://www.strawanzerin.at/wp-content/uploads/2015/01/003_10922719_892277367479686_125542583145231068_n.jpg
ORGANIZER;CN="Ruth%20Binder":MAILTO:event@cafe-industrie.at
GEO:48.1838252;16.3664539
X-APPLE-STRUCTURED-LOCATION;VALUE=URI;X-ADDRESS=Traditionscafé Industrie Margaretengürtel 12 Wien Wien 1050 Österreich;X-APPLE-RADIUS=500;X-TITLE=Margaretengürtel 12:geo:16.3664539,48.1838252
END:VEVENT
END:VCALENDAR