BEGIN:VCALENDAR
VERSION:2.0
PRODID:-//STRAWANZERIN - ECPv4.9.5//NONSGML v1.0//EN
CALSCALE:GREGORIAN
METHOD:PUBLISH
X-WR-CALNAME:STRAWANZERIN
X-ORIGINAL-URL:https://www.strawanzerin.at
X-WR-CALDESC:Veranstaltungen im STRAWANZERIN
BEGIN:VTIMEZONE
TZID:"Europe/Paris"
BEGIN:DAYLIGHT
TZOFFSETFROM:+0100
TZOFFSETTO:+0200
TZNAME:CEST
DTSTART:20150329T010000
END:DAYLIGHT
BEGIN:STANDARD
TZOFFSETFROM:+0200
TZOFFSETTO:+0100
TZNAME:CET
DTSTART:20151025T010000
END:STANDARD
END:VTIMEZONE
BEGIN:VEVENT
DTSTART;TZID="Europe/Paris":20151107T100000
DTEND;TZID="Europe/Paris":20151107T100000
DTSTAMP:20260421T005859
CREATED:20150620T131032Z
LAST-MODIFIED:20150620T131044Z
UID:17685-1446890400-1446890400@www.strawanzerin.at
SUMMARY:FiNN König von Schokolonien
DESCRIPTION:2015 ist unser Jubiläumsjahr: 30 Jahre Theater HEUSCHRECK! \nNatürlich feiern wir dieses besondere Jahr mit einem neuen Musical\, das im Herbst ’15 seine Uraufführung/Premiere erleben wird! \nSchulschlussfest! Ein versteckter Schatz soll im Birkenwald nahe der beliebten Finnipoo-Schule gefunden werden. Die Lehrerin teilt die Schüler in Teams ein: der schüchternen Finn und die coole Mona sollen sich gemeinsam auf die Suche machen. \n„Ausgerechnet Mona“\, seufzt Finn. Denn eigentlich – und das ist streng geheim – mag er Mona. \n„Das kann ja lustig werden“\, stöhnt Mona. \nUnd so ist es auch. Denn der überaus eigensinnige Finn saust einfach los in den Wald – alleine. \nAls Finn an einer seltsamen Blume streift\, trifft ihn ihr Blütenstaub in der Nase und verwirrt sinkt er zu Boden. Als er wieder zu sich kommt\, befindet er sich in einer fremden Welt voller fantastischer Gestalten\, die ihn als König von Schokolonien begrüßen. \nAch Quatsch\, denkt Finn – doch schon ist er mitten drin in einem atemberaubenden Abenteuer\, das seine Gefühle ganz schön durcheinander purzeln lässt. \nDenn plötzlich König sein – und rundum nichts als süße Schokolade – wer will das nicht! \nWie aus dem verschlossenen Finn ein fröhlicher\, selbstbewusster Junge wird\, der gelernt hat\, sich und sein Herz zu öffnen … davon erzählt dieses neue\, fantastische HEUSCHRECK-Musical. \n
URL:https://www.strawanzerin.at/termin/finn-koenig-von-schokolonien-premiere/
LOCATION:Österreich
CATEGORIES:Deutsch,Eintrittspreis,Kinderkultur,Kunst/Kultur,Wien
ATTACH;FMTTYPE=:
ORGANIZER;CN="Theater%20HEUSCHRECK":MAILTO:office@heuschreck.at
END:VEVENT
END:VCALENDAR