BEGIN:VCALENDAR
VERSION:2.0
PRODID:-//STRAWANZERIN - ECPv4.9.5//NONSGML v1.0//EN
CALSCALE:GREGORIAN
METHOD:PUBLISH
X-WR-CALNAME:STRAWANZERIN
X-ORIGINAL-URL:https://www.strawanzerin.at
X-WR-CALDESC:Veranstaltungen im STRAWANZERIN
BEGIN:VTIMEZONE
TZID:"Europe/Paris"
BEGIN:DAYLIGHT
TZOFFSETFROM:+0100
TZOFFSETTO:+0200
TZNAME:CEST
DTSTART:20150329T010000
END:DAYLIGHT
BEGIN:STANDARD
TZOFFSETFROM:+0200
TZOFFSETTO:+0100
TZNAME:CET
DTSTART:20151025T010000
END:STANDARD
END:VTIMEZONE
BEGIN:VEVENT
DTSTART;TZID="Europe/Paris":20150622T190000
DTEND;TZID="Europe/Paris":20150622T210000
DTSTAMP:20260420T193143
CREATED:20150605T094625Z
LAST-MODIFIED:20150612T075529Z
UID:17491-1434999600-1435006800@www.strawanzerin.at
SUMMARY:Flaschensammeln. Überleben in der Stadt
DESCRIPTION:Buchpräsentation mit den Herausgebern Philipp Catterfeld und Alban Knecht. \nFlaschensammlerinnen und Flaschensammler sind in Deutschland mittlerweile zum festen Bestandteil des Stadtbildes geworden. Gewusst wird über sie nur wenig. Hängt das Flaschensammeln mit Hartz IV zusammen? Gibt es auch Hobbysammler? In einem Forschungsprojekt machten Studierende der Hochschule München das eigentlich Naheliegende: Sie sprachen die FlaschensammlerInnen auf der Straße direkt an – mit Erfolg! Denn diese erwiesen sich schnell als auskunftsfreudig – und die Studierenden als hochmotiviert: Sie führten mehr als 30 Interviews und unterzogen sich aufschlussreichen Selbstversuchen. Sie beschrieben ihre Beobachtungen\, transkribierten die besten O-Töne und stellten wagemutige Thesen auf. Sie sprachen mit jungen Immigranten\, die vom Flaschensammeln leben\, und mit deutschen Rentnerinnen\, die noch den Pfennig ehren. Ihre Berichte erzählen von stolzen und schamhaften Flaschensammlern\, von Hobbysammlern\, Sammelprofis und Sammelsüchtigen\, von Einzelgängern und Flaschensammlerfamilien und von Mama Afrika. Die Analyse des Flaschensammelns weist dabei weit über sich hinaus: Eine Klasse der Unterversorgten räumt die Reste des in der Öffentlichkeit feiernden und trinkenden Mittelschicht ab – und unser Umweltbewusstsein goutiert es. \nPhilipp Catterfeld\, Alban Knecht (Hg.): Flaschensammeln. Überleben in der Stadt. UVK Verlag\, Konstanz. 184 Seiten\, 24\,99€\, ISBN 978-3-86764-624-6. Weitere Informationen: www.uvk.de \n
URL:https://www.strawanzerin.at/termin/flaschensammeln-ueberleben-in-der-stadt/
LOCATION:Lhotzkys Literaturbuffet\, Rotensterngasse 2\, Wien\, 1020\, Österreich
CATEGORIES:Deutsch,Gratis,Literatur,Soziale Kämpfe,Wien
GEO:48.2178428;16.3810253
X-APPLE-STRUCTURED-LOCATION;VALUE=URI;X-ADDRESS=Lhotzkys Literaturbuffet Rotensterngasse 2 Wien 1020 Österreich;X-APPLE-RADIUS=500;X-TITLE=Rotensterngasse 2:geo:16.3810253,48.2178428
END:VEVENT
END:VCALENDAR