BEGIN:VCALENDAR
VERSION:2.0
PRODID:-//STRAWANZERIN - ECPv4.9.5//NONSGML v1.0//EN
CALSCALE:GREGORIAN
METHOD:PUBLISH
X-WR-CALNAME:STRAWANZERIN
X-ORIGINAL-URL:https://www.strawanzerin.at
X-WR-CALDESC:Veranstaltungen im STRAWANZERIN
BEGIN:VTIMEZONE
TZID:"Europe/Vienna"
BEGIN:DAYLIGHT
TZOFFSETFROM:+0100
TZOFFSETTO:+0200
TZNAME:CEST
DTSTART:20250330T010000
END:DAYLIGHT
BEGIN:STANDARD
TZOFFSETFROM:+0200
TZOFFSETTO:+0100
TZNAME:CET
DTSTART:20251026T010000
END:STANDARD
END:VTIMEZONE
BEGIN:VEVENT
DTSTART;TZID="Europe/Vienna":20251125T200000
DTEND;TZID="Europe/Vienna":20251125T220000
DTSTAMP:20260422T102321
CREATED:20251106T151553Z
LAST-MODIFIED:20251106T151553Z
UID:110867-1764100800-1764108000@www.strawanzerin.at
SUMMARY:»Fleder.Strauss« - Uraufführung im Odeon
DESCRIPTION:Serapions Theater – Ein halbes Jahrhundert neue Wege im Odeon \nSerapion bedeutet übersetzt: der entflammte Mensch. Seit 1973 liegt der namengleichen\, von Ulrike Kaufmann und Erwin Piplits gegründeten Theatergruppe die Zusammenführung und die freie Entfaltung der Künste am Herzen. Aus diesem Geist heraus entstanden Jahr für Jahr unverwechselbare Produktionen als Verbindung von Musiktheater\, Tanz\, Schauspiel und bildender Kunst. Als nächstes feiert »Fleder.Strauss« am 25. November 2025 um 20 Uhr Uraufführung im Odeon – die erste Zusammenarbeit mit das.bernhard.ensemble\, die visuell geprägtes Theater mit groteskem Humor verbindet.  \nSchöpferisch tätig aus eigener Kraft \n»Der verstärkte Einsatz von visuellen Mitteln macht unsere Stücke universell verständlich. Dabei begleiten Musik und Wort das Geschehen auf der Bühne«\, beschreibt der künstlerische Leiter Max Kaufmann den besonderen Reiz des Serapions Theater. Seit 1988 hat die aus Menschen verschiedener Länder und Kulturen bestehende Künstler:innengruppe im Odeon an der Taborstraße 10 ihr selbst errichtetes Zuhause. Dort befinden sich auch alle dem Theaterverein zugehörigen Werkstätten für Kostüme und Bühnenbild\, die vom Serapions Theater stets selbst hergestellt werden. \n»Fleder.Strauss« schwirrt bis Jänner 2026 über die Bühne \nAls besonders originell könnte die Handlung der nächsten Produktion in die Theatergeschichte eingehen: Ein Ensemble begibt sich im Strauss-Jahr 2025 mit einer Operette über das Leben von Johann Strauss mittels Flugzeug auf Welttournee. Die musikalischen Proben an Bord versetzen den Flieger jedoch in solche Turbulenzen\, dass er ins Wanken gerät und eine abenteuerliche Bruchlandung in einem verschneiten Gebirge hinlegt. Völlig isoliert von der Außenwelt beginnt nicht nur ein physischer Überlebenskampf… \nBild: Das Ensemble von »Fleder.Strauss«\, Foto/© Walter Mussil \n
URL:https://www.strawanzerin.at/termin/fleder-strauss-urauffuehrung-im-odeon/
LOCATION:Odeon Theater\, Taborstraße 10\, Wien\, Wien\, 1020\, Österreich
CATEGORIES:ab 7,Kunst/Kultur,Theater/Kabarett,Wien
ATTACH;FMTTYPE=image/jpeg:https://www.strawanzerin.at/wp-content/uploads/2025/11/Gruppe_FLEDER.STRAUSS©Walter_Mussil-Kopie.jpeg
GEO:48.2141987;16.380166
X-APPLE-STRUCTURED-LOCATION;VALUE=URI;X-ADDRESS=Odeon Theater Taborstraße 10 Wien Wien 1020 Österreich;X-APPLE-RADIUS=500;X-TITLE=Taborstraße 10:geo:16.380166,48.2141987
END:VEVENT
END:VCALENDAR