BEGIN:VCALENDAR
VERSION:2.0
PRODID:-//STRAWANZERIN - ECPv4.9.5//NONSGML v1.0//EN
CALSCALE:GREGORIAN
METHOD:PUBLISH
X-WR-CALNAME:STRAWANZERIN
X-ORIGINAL-URL:https://www.strawanzerin.at
X-WR-CALDESC:Veranstaltungen im STRAWANZERIN
BEGIN:VTIMEZONE
TZID:"Europe/Vienna"
BEGIN:DAYLIGHT
TZOFFSETFROM:+0100
TZOFFSETTO:+0200
TZNAME:CEST
DTSTART:20240331T010000
END:DAYLIGHT
BEGIN:STANDARD
TZOFFSETFROM:+0200
TZOFFSETTO:+0100
TZNAME:CET
DTSTART:20241027T010000
END:STANDARD
END:VTIMEZONE
BEGIN:VEVENT
DTSTART;TZID="Europe/Vienna":20241013T100000
DTEND;TZID="Europe/Vienna":20241013T130000
DTSTAMP:20260423T175329
CREATED:20240902T085527Z
LAST-MODIFIED:20240902T085527Z
UID:102803-1728813600-1728824400@www.strawanzerin.at
SUMMARY:Flohmarkt im Bezirksmuseum Penzing
DESCRIPTION:Aus dem Bestand des Bezirksmuseums Penzing gibt es:\nRomane\, Kochbücher\, Gartenkundebücher\, Kinderbücher\, Lexika\, heitere Bücher usf.\, sowie Gegenstände (zB. Bügeleisen von Anno dazumal)\, Bierdeckel\, Accessoires uvm. \nBei schönem Wetter findet der Flohmarkt im Garten des Museums statt; bei Regen in den Innenräumen. Bezirksmuseum Penzing\, Penzinger Straße 59\, 1140 Wien. \n
URL:https://www.strawanzerin.at/termin/flohmarkt-im-bezirksmuseum-penzing/
LOCATION:1140 Wien Bezirksmuseum Penzing\, Penzinger Straße 59\, Wien\, Wien\, 1140\, Österreich
CATEGORIES:Flohmarkt
ATTACH;FMTTYPE=image/png:https://www.strawanzerin.at/wp-content/uploads/2024/09/Pink-Bold-Flea-Market-Event-Instagram-Post.png
END:VEVENT
END:VCALENDAR