BEGIN:VCALENDAR
VERSION:2.0
PRODID:-//STRAWANZERIN - ECPv4.9.5//NONSGML v1.0//EN
CALSCALE:GREGORIAN
METHOD:PUBLISH
X-WR-CALNAME:STRAWANZERIN
X-ORIGINAL-URL:https://www.strawanzerin.at
X-WR-CALDESC:Veranstaltungen im STRAWANZERIN
BEGIN:VTIMEZONE
TZID:"Europe/Helsinki"
BEGIN:DAYLIGHT
TZOFFSETFROM:+0200
TZOFFSETTO:+0300
TZNAME:EEST
DTSTART:20150329T010000
END:DAYLIGHT
BEGIN:STANDARD
TZOFFSETFROM:+0300
TZOFFSETTO:+0200
TZNAME:EET
DTSTART:20151025T010000
END:STANDARD
END:VTIMEZONE
BEGIN:VEVENT
DTSTART;TZID="Europe/Helsinki":20151212T150000
DTEND;TZID="Europe/Helsinki":20151212T200000
DTSTAMP:20260421T225650
CREATED:20151125T143401Z
LAST-MODIFIED:20151211T111438Z
UID:22107-1449932400-1449950400@www.strawanzerin.at
SUMMARY:Flohmarkt im Cafe Z /// für *Flüchtlinge willkommen*
DESCRIPTION:Flohmarkt im Cafe Z ::: Schönes/(Un-)Nützliches/Interessantes/Les- und Hörbares einkaufen – der Erlös kommt der Initiative *Flüchtlinge willkommen* zugute!\nApfelpunsch trinken und Maroni essen!  \n
URL:https://www.strawanzerin.at/termin/flohmarkt-im-cafe-z-fuer-fluechtlinge-willkommen/
CATEGORIES:Flohmarkt,Gratis,Wien
ATTACH;FMTTYPE=image/jpeg:https://www.strawanzerin.at/wp-content/uploads/2015/11/flohm_cafeZ.jpg
ORGANIZER;CN="Cafe%20Z":MAILTO:office@cafe-z.at
END:VEVENT
END:VCALENDAR