BEGIN:VCALENDAR
VERSION:2.0
PRODID:-//STRAWANZERIN - ECPv4.9.5//NONSGML v1.0//EN
CALSCALE:GREGORIAN
METHOD:PUBLISH
X-WR-CALNAME:STRAWANZERIN
X-ORIGINAL-URL:https://www.strawanzerin.at
X-WR-CALDESC:Veranstaltungen im STRAWANZERIN
BEGIN:VTIMEZONE
TZID:"Europe/Paris"
BEGIN:DAYLIGHT
TZOFFSETFROM:+0100
TZOFFSETTO:+0200
TZNAME:CEST
DTSTART:20150329T010000
END:DAYLIGHT
BEGIN:STANDARD
TZOFFSETFROM:+0200
TZOFFSETTO:+0100
TZNAME:CET
DTSTART:20151025T010000
END:STANDARD
END:VTIMEZONE
BEGIN:VEVENT
DTSTART;TZID="Europe/Paris":20150807T100000
DTEND;TZID="Europe/Paris":20150807T150000
DTSTAMP:20260421T125223
CREATED:20150715T073158Z
LAST-MODIFIED:20150715T094845Z
UID:18287-1438941600-1438959600@www.strawanzerin.at
SUMMARY:Flohmarkt im Nachbarschaftszentrum
DESCRIPTION:günstige Kleidung\, Bücher\, CDs ab 50 cent\,Hausrat\, Kindersachen\, Spiele \n
URL:https://www.strawanzerin.at/termin/flohmarkt-im-nachbarschaftszentrum-4/
LOCATION:Nachbarschaftszentrum 16\, Stöberplatz "/3\,  Wien\, Wien\, 1160\, Österreich
CATEGORIES:Deutsch,Flohmarkt,Gratis,Sonstiges,Wien
ATTACH;FMTTYPE=image/jpeg:https://www.strawanzerin.at/wp-content/uploads/2015/07/IMAG0501.jpg
ORGANIZER;CN="Nachbarschaftszentrum%2016":MAILTO:nz16@wiener.hilfswerk.at
GEO:48.2211652;16.3173969
X-APPLE-STRUCTURED-LOCATION;VALUE=URI;X-ADDRESS=Nachbarschaftszentrum 16 Stöberplatz "/3  Wien Wien 1160 Österreich;X-APPLE-RADIUS=500;X-TITLE=Stöberplatz "/3:geo:16.3173969,48.2211652
END:VEVENT
END:VCALENDAR