BEGIN:VCALENDAR
VERSION:2.0
PRODID:-//STRAWANZERIN - ECPv4.9.5//NONSGML v1.0//EN
CALSCALE:GREGORIAN
METHOD:PUBLISH
X-WR-CALNAME:STRAWANZERIN
X-ORIGINAL-URL:https://www.strawanzerin.at
X-WR-CALDESC:Veranstaltungen im STRAWANZERIN
BEGIN:VTIMEZONE
TZID:"Europe/Helsinki"
BEGIN:DAYLIGHT
TZOFFSETFROM:+0200
TZOFFSETTO:+0300
TZNAME:EEST
DTSTART:20150329T010000
END:DAYLIGHT
BEGIN:STANDARD
TZOFFSETFROM:+0300
TZOFFSETTO:+0200
TZNAME:EET
DTSTART:20151025T010000
END:STANDARD
END:VTIMEZONE
BEGIN:VEVENT
DTSTART;TZID="Europe/Helsinki":20151214T193000
DTEND;TZID="Europe/Helsinki":20151214T220000
DTSTAMP:20260419T120250
CREATED:20151123T183718Z
LAST-MODIFIED:20151125T133246Z
UID:22001-1450121400-1450130400@www.strawanzerin.at
SUMMARY:Flüsterzweieck "Menschenkür"
DESCRIPTION:\nFLÜSTERZWEIECK \nMenschenkür \nHeute Abend ist es soweit: Flüsterzweieck küren den besten Menschen. Denn Flüsterzweieck\, und nur Flüsterzweieck\, wurden auserwählt zu wählen. Doch welchen Kategorien muss eigentlich der beste Mensch entsprechen? Sind es Aussehen\, Erfolg und Geschlecht? Oder sind Strafzettelfrequenz\, Retromöbelanzahl und Googlepräsenz doch viel wichtiger?  \nZum Glück haben Flüsterzweieck die allgemeingültigsten Bewertungskategorien entdeckt\, nach denen alle immer gesucht haben. Und wer diesen entspricht\, ist der beste Mensch. Oder? \nBegleiten Sie Flüsterzweieck durch einen rasanten Abend voll von grotesken Figuren und absurden Geschichten. Doch was als unterhaltsame Show beginnt\, entpuppt sich bald als eine Reise in die Abgründe der beiden Hauptfiguren. Denn schließlich kann nur ein Mensch der beste sein. \n
URL:https://www.strawanzerin.at/termin/fluesterzweieck-menschenkuer/
LOCATION:Kabarett Niedermair\, Lenaugasse 1a\, Wien\, Wien\, 1080\, Österreich
CATEGORIES:ab 7,Deutsch,Kunst/Kultur,Theater/Kabarett,Wien
ATTACH;FMTTYPE=image/jpeg:https://www.strawanzerin.at/wp-content/uploads/2015/11/Menschenkür-Poeschl-2-quer-600.jpg
GEO:48.2095618;16.3544311
X-APPLE-STRUCTURED-LOCATION;VALUE=URI;X-ADDRESS=Kabarett Niedermair Lenaugasse 1a Wien Wien 1080 Österreich;X-APPLE-RADIUS=500;X-TITLE=Lenaugasse 1a:geo:16.3544311,48.2095618
END:VEVENT
END:VCALENDAR